BEGIN:VCALENDAR
VERSION:2.0
PRODID:-//ChamberMaster//Event Calendar 2.0//EN
METHOD:PUBLISH
X-PUBLISHED-TTL:P3D
REFRESH-INTERVAL:P3D
CALSCALE:GREGORIAN
BEGIN:VEVENT
DTSTART;VALUE=DATE:20120403
DTEND;VALUE=DATE:20120404
TRANSP:TRANSPARENT
X-MICROSOFT-CDO-ALLDAYEVENT:TRUE
SUMMARY:Governmental Affairs Committee
DESCRIPTION:The HBAGK Governmental Affairs Committee will meet to discuss industry related issues including adoption of the 2012 IRC. Fire sprinklers have been a major topic of debate and there are other proposed changes to consider as well. The National Association of Home Builders has a good summary of code changes on their website (www.nahb.org) via the Search function. (Type 2012 I-Codes Adoption Kit in the search box located in the upper right corner of the page)\n \n Lunch is available for $8 per person\, RSVP.
X-ALT-DESC;FMTTYPE=text/html:The HBAGK Governmental Affairs Committee will meet to discuss industry related issues including adoption of the 2012 IRC. Fire sprinklers have been a major topic of debate and there are other proposed changes to consider as well. The National Association of Home Builders has a good summary of code changes on their website (<a href=http://www.nahb.org>www.nahb.org</a>) via the Search function. (Type 2012 I-Codes Adoption Kit in the search box located in the&nbsp\;upper right corner of the page)<br> <br> Lunch is&nbsp\;available for $8 per person\, RSVP.
LOCATION:221 Clark Street\, NW Knoxville\, TN
UID:e.9402.394
SEQUENCE:3
DTSTAMP:20260422T074700Z
URL:http://hbaknoxvilletn.memberzone.com/events/details/governmental-affairs-committee-04-03-2012-394
END:VEVENT

END:VCALENDAR
