BEGIN:VCALENDAR
VERSION:2.0
PRODID:-//ChamberMaster//Event Calendar 2.0//EN
METHOD:PUBLISH
X-PUBLISHED-TTL:P3D
REFRESH-INTERVAL:P3D
CALSCALE:GREGORIAN
BEGIN:VEVENT
DTSTART;VALUE=DATE:20090319
DTEND;VALUE=DATE:20090320
TRANSP:TRANSPARENT
X-MICROSOFT-CDO-ALLDAYEVENT:TRUE
SUMMARY:Governmental Affairs Committee
DESCRIPTION:REMINDER:  The HBAGK Governmental Affairs Committee will be meeting on Thursday\, March 19th at noon at the HBAGK office.  Please RSVP to let us know if you plan to attend and if you would like lunch.
X-ALT-DESC;FMTTYPE=text/html:<p>REMINDER:&nbsp\; The HBAGK Governmental Affairs Committee will be meeting on Thursday\, March 19th at noon at the HBAGK office.&nbsp\; Please RSVP to let us know if you plan to attend and if you would like lunch.</p>
LOCATION:221 Clark Street\, NW Knoxville\, TN
UID:e.9402.162
SEQUENCE:3
DTSTAMP:20260425T103712Z
URL:http://hbaknoxvilletn.memberzone.com/events/details/governmental-affairs-committee-03-19-2009-162
END:VEVENT

END:VCALENDAR
