BEGIN:VCALENDAR
VERSION:2.0
PRODID:-//ChamberMaster//Event Calendar 2.0//EN
METHOD:PUBLISH
X-PUBLISHED-TTL:P3D
REFRESH-INTERVAL:P3D
CALSCALE:GREGORIAN
BEGIN:VEVENT
DTSTART;VALUE=DATE:20130221
DTEND;VALUE=DATE:20130222
TRANSP:TRANSPARENT
X-MICROSOFT-CDO-ALLDAYEVENT:TRUE
SUMMARY:Governmental Affairs Committee
DESCRIPTION:The first Governmental Affairs Committee meeting of the year is scheduled for 11:30 AM on Thursday\, February 21. We will meet for lunch at Calhoun's near Pellissippi PKWY to discuss the upcoming state meeting in Nashville (March 4-5) including our 2013 agenda*\, dinner with our local legislators on the 4th and Hill visits the following day on the 5th.\n \n RSVP so we can prepare our materials. This meeting is on the same date as our General Membership Meeting at Ferguson's showroom from 5 - 7 PM.\n \n *Susan Ritter has updated the 2013 Legislative Agenda
X-ALT-DESC;FMTTYPE=text/html:The first Governmental Affairs Committee meeting of the year is scheduled for 11:30 AM on Thursday\, February 21. We will meet for lunch at Calhoun&#39\;s near Pellissippi PKWY to discuss the upcoming state meeting in Nashville (March 4-5) including our 2013 <strong>agenda</strong>*\, dinner with our local legislators on the 4th and Hill visits the following day on the 5th.<br> <br> RSVP so we can prepare our materials. This meeting is on the same date as our General Membership Meeting at Ferguson&#39\;s showroom from 5 - 7 PM.<br> <br> *Susan Ritter has updated the 2013 Legislative Agenda<br> <br>
LOCATION:10020 Kingston Pike Knoxville\, TN
UID:e.9402.488
SEQUENCE:3
DTSTAMP:20260421T041045Z
URL:http://hbaknoxvilletn.memberzone.com/events/details/governmental-affairs-committee-02-21-2013-488
END:VEVENT

END:VCALENDAR
