BEGIN:VCALENDAR
VERSION:2.0
PRODID:-//ChamberMaster//Event Calendar 2.0//EN
METHOD:PUBLISH
X-PUBLISHED-TTL:P3D
REFRESH-INTERVAL:P3D
CALSCALE:GREGORIAN
BEGIN:VEVENT
DTSTART;VALUE=DATE:20090115
DTEND;VALUE=DATE:20090116
TRANSP:TRANSPARENT
X-MICROSOFT-CDO-ALLDAYEVENT:TRUE
SUMMARY:Governmental Affairs Committee
DESCRIPTION:Please reply to let us know if you plan to attend the Governmental Affairs Committee meeting and if you will be having lunch. If you no longer wish to serve on this committee we can remove your name from our list to avoid future notifications.
X-ALT-DESC;FMTTYPE=text/html:<p>Please reply to let us know if you plan to attend the Governmental Affairs Committee meeting and if you will be having lunch.</p> <p>If you no longer wish to serve on this committee we can remove your name from our list to avoid future notifications.</p>
LOCATION:221 Clark St. NW Knoxville\, TN
UID:e.9402.150
SEQUENCE:3
DTSTAMP:20260425T140528Z
URL:http://hbaknoxvilletn.memberzone.com/events/details/governmental-affairs-committee-01-15-2009-150
END:VEVENT

END:VCALENDAR
