BEGIN:VCALENDAR
VERSION:2.0
PRODID:-//ChamberMaster//Event Calendar 2.0//EN
METHOD:PUBLISH
X-PUBLISHED-TTL:P3D
REFRESH-INTERVAL:P3D
CALSCALE:GREGORIAN
BEGIN:VEVENT
DTSTART;VALUE=DATE:20120510
DTEND;VALUE=DATE:20120511
TRANSP:TRANSPARENT
X-MICROSOFT-CDO-ALLDAYEVENT:TRUE
SUMMARY:Golf Committee - Virtual Meeting
DESCRIPTION:Thank you for volunteering to serve on the Golf Committee. Our next meeting is a VIRTUAL UPDATE via email by noon\, Thursday\, 5/10/12. The Golf Committee will host the Hotdog Lunch on 5/24 at the HBAGK Office from 11:30 - 1:00 to promote the tournament and conduct a drawing for one FREE player (winner must be present and a current member in good standing).\n \n Our main focus now is recruiting players/teams\, goody bag & raffle prize donations\, and sponsors.\n \n Here is what we have so far (as of Friday 5/4):\n \n Corporate Sponsors - ORNL FCU (includes shirts). Lunch Sponsors - William Knight Insurance Agency\n \n Teams - CRS\, Fairfax\, Ferguson\, General Shale\, Home Federal (x2)\, Marvin Concepts\, ORNL FCU\, Prime Lending\, Radius Homes\, Robert Campbell\, Russells's Pest (x2)\, THDA\, Tindell's\n \n Hole Sponsors - CFI Insulation\, CRS\, CU Community\, First Peoples Bank\, Home Federal\, ORNL FCU\, THDA\, Tindell's\n \n Goody Bag Items - 2-10 HBW\, CRS\, HPUD\, Knox TVA ECU\, Quiznos\, SunTrust Mortgage\, Zurix\n \n Raffle Prizes - Applebee's\, Home Federal\, Knox TVA ECU\, Russell's Pest\n \n Snack Sponsors - BB&T\, Robert Campbell\, Tallent Title (SOLD OUT)\n \n Beverage Sponsors - 0\n \n (Reminder\, you can retrieve your login name & password by clicking the registration link in this message then following the prompt using your email address to have the information sent to you)
X-ALT-DESC;FMTTYPE=text/html:<span style=font-size: 9pt><span style=color: #222222><span style=font-family: arial\, sans-serif>Thank you for volunteering to serve on the Golf Committee. Our next meeting is a VIRTUAL UPDATE via email by noon\, Thursday\, 5/10/12. The Golf Committee will host the Hotdog Lunch on 5/24 at the HBAGK Office from 11:30 - 1:00 to promote the tournament and conduct a drawing for one FREE player (winner must be present and a current member in good standing).<br> <br> Our main focus now is recruiting players/teams\, goody bag &amp\; raffle prize donations\, and&nbsp\;sponsors.</span></span></span><br> <br> <span style=font-size: 9pt><span style=color: #222222><span style=font-family: arial\, sans-serif><u>Here is what we have so far (as of Friday 5/4):</u><br> <br> Corporate Sponsors - ORNL FCU (includes shirts). Lunch Sponsors - William Knight Insurance Agency<br> <br> Teams - CRS\, Fairfax\, Ferguson\, General Shale\,&nbsp\;Home Federal (x2)\, Marvin Concepts\, ORNL FCU\, Prime Lending\, Radius Homes\, Robert Campbell\, Russells&#39\;s Pest (x2)\, THDA\, Tindell&#39\;s<br> <br> Hole Sponsors - CFI Insulation\, CRS\, CU Community\, First Peoples Bank\,&nbsp\;Home Federal\, ORNL FCU\, THDA\, Tindell&#39\;s<br> <br> Goody Bag Items - 2-10 HBW\, CRS\, HPUD\, Knox TVA ECU\,&nbsp\;Quiznos\,&nbsp\;SunTrust Mortgage\, Zurix<br> <br> Raffle Prizes - Applebee&#39\;s\, Home Federal\, Knox TVA ECU\, Russell&#39\;s Pest<br> <br> Snack Sponsors - BB&amp\;T\, Robert Campbell\, Tallent Title (SOLD OUT)<br> <br> Beverage Sponsors - 0</span></span></span><br> <br> <span style=font-family: arial\, sans-serif><strong>(Reminder\, you can retrieve your login name &amp\; password by clicking the registration link in this message then following the prompt using your email address to have the information sent to you)</strong></span><br> <br>
LOCATION:221 Clark Street\, NW Knoxville\, TN
UID:e.9402.413
SEQUENCE:3
DTSTAMP:20260422T023811Z
URL:http://hbaknoxvilletn.memberzone.com/events/details/golf-committee-virtual-meeting-05-10-2012-413
END:VEVENT

END:VCALENDAR
