BEGIN:VCALENDAR
VERSION:2.0
PRODID:-//ChamberMaster//Event Calendar 2.0//EN
METHOD:PUBLISH
X-PUBLISHED-TTL:P3D
REFRESH-INTERVAL:P3D
CALSCALE:GREGORIAN
BEGIN:VEVENT
DTSTART;VALUE=DATE:20130530
DTEND;VALUE=DATE:20130531
TRANSP:TRANSPARENT
X-MICROSOFT-CDO-ALLDAYEVENT:TRUE
SUMMARY:Golf Committee meeting
DESCRIPTION:Please plan to attend our next committee meeting on Thursday\, May 30 at 9 AM. We will meet at the HBA office to review committee calls for teams\, sponsorships\, raffle prizes and goody bag items. A tournament date of Thursday\, June 13 at Egwani Farms has been reserved for an afternoon scramble. Registration and sponsor forms have been sent to all members and past sponsors! RSVP.\n \n ORNL Federal Credit Union are our Platinum Sponsors for the event - thank you!\n \n Beverage Carts and Snack Sponsorships are SOLD OUT!  We need to push for more hole sponsors\, raffle prizes and items for the goody bags. There is room for only one more team - great job everyone!!
X-ALT-DESC;FMTTYPE=text/html:Please plan to attend our next committee meeting on Thursday\,&nbsp\;May 30 at 9 AM. We will meet at the HBA office to review committee calls for teams\, sponsorships\, raffle prizes and goody bag items. A tournament date of Thursday\, June 13 at Egwani Farms has been reserved for an afternoon scramble. Registration and sponsor forms have been sent to all members and past sponsors! RSVP.<br> <br> ORNL Federal Credit Union are our Platinum Sponsors for the event - thank you!<br> <br> <strong>Beverage Carts and Snack Sponsorships are SOLD OUT! &nbsp\;</strong><span style=background-color:#ffff00\;>We need to push for more hole sponsors\, raffle prizes and items for the goody bags. There is room for only one more team - great job everyone!!</span><br> <br> <br>
LOCATION:221 Clark Street\, NW Knoxville\, TN
UID:e.9402.520
SEQUENCE:3
DTSTAMP:20260420T230751Z
URL:http://hbaknoxvilletn.memberzone.com/events/details/golf-committee-meeting-05-30-2013-520
END:VEVENT

END:VCALENDAR
