BEGIN:VCALENDAR
VERSION:2.0
PRODID:-//ChamberMaster//Event Calendar 2.0//EN
METHOD:PUBLISH
X-PUBLISHED-TTL:P3D
REFRESH-INTERVAL:P3D
CALSCALE:GREGORIAN
BEGIN:VEVENT
DTSTART;VALUE=DATE:20130502
DTEND;VALUE=DATE:20130503
TRANSP:TRANSPARENT
X-MICROSOFT-CDO-ALLDAYEVENT:TRUE
SUMMARY:Golf Committee meeting
DESCRIPTION:Please plan to attend our next committee meeting on Thursday\, May 2 at 9 AM. We will meet at the HBA office to review committee calls for teams\, sponsorships\, raffle prizes and goody bag items. A tournament date of Thursday\, June 13 at Egwani Farms has been reserved for an afternoon scramble. Registration and sponsor forms have been sent to all members and past sponsors! RSVP.\n \n ORNL Federal Credit Union are our Platinum Sponsors for the event - thank you!\n \n Beverage Carts and Snack Sponsorships are SOLD OUT!!
X-ALT-DESC;FMTTYPE=text/html:Please plan to attend our next committee meeting on Thursday\,&nbsp\;May 2&nbsp\;at 9 AM. We will meet at the HBA office to review committee calls for teams\, sponsorships\, raffle prizes and goody bag items. A tournament date of Thursday\, June 13 at Egwani Farms has been reserved for an afternoon scramble. Registration and sponsor forms have been sent to all members and past sponsors! RSVP.<br> <br> ORNL Federal Credit Union are our Platinum Sponsors for the event - thank you!<br> <br> <strong>Beverage Carts and Snack Sponsorships are SOLD OUT!!</strong><br> <br> <br>
LOCATION:221 Clark Street\, NW Knoxville\, TN
UID:e.9402.511
SEQUENCE:3
DTSTAMP:20260420T230607Z
URL:http://hbaknoxvilletn.memberzone.com/events/details/golf-committee-meeting-05-02-2013-511
END:VEVENT

END:VCALENDAR
