BEGIN:VCALENDAR
VERSION:2.0
PRODID:-//ChamberMaster//Event Calendar 2.0//EN
METHOD:PUBLISH
X-PUBLISHED-TTL:P3D
REFRESH-INTERVAL:P3D
CALSCALE:GREGORIAN
BEGIN:VEVENT
DTSTART;VALUE=DATE:20130411
DTEND;VALUE=DATE:20130412
TRANSP:TRANSPARENT
X-MICROSOFT-CDO-ALLDAYEVENT:TRUE
SUMMARY:Golf Committee meeting
DESCRIPTION:It's time for the golf committee to get together and plan our annual Home Builders golf tournament. Please plan to attend our next committee meeting of the year on Thursday\, April 11 at 9 AM. We will meet at the HBA office. The committee also needs to select a chairman at this meeting. A tournament date of Thursday\, June 13 at Egwani Farms has been reserved for an afternoon scramble. Registration and sponsor forms have been sent to all members and past sponsors! RSVP.\n \n ORNL Federal Credit Union are our Platinum Sponsors for the event - thank you!
X-ALT-DESC;FMTTYPE=text/html:It&#39\;s time for the&nbsp\;golf committee to get together and plan our annual Home Builders golf tournament. Please plan to attend our next committee meeting of the year on Thursday\, April 11 at 9 AM. We will meet at the HBA office. The committee also needs to select a chairman at this meeting. A tournament date of Thursday\, June 13 at Egwani Farms has been reserved for an afternoon scramble. Registration and sponsor forms have been sent to all members and past sponsors! RSVP.<br> <br> ORNL Federal Credit Union are our Platinum Sponsors for the event - thank you!<br> <br> <br>
LOCATION:221 Clark Street\, NW Knoxville\, TN
UID:e.9402.503
SEQUENCE:3
DTSTAMP:20260421T005336Z
URL:http://hbaknoxvilletn.memberzone.com/events/details/golf-committee-meeting-04-11-2013-503
END:VEVENT

END:VCALENDAR
