BEGIN:VCALENDAR
VERSION:2.0
PRODID:-//ChamberMaster//Event Calendar 2.0//EN
METHOD:PUBLISH
X-PUBLISHED-TTL:P3D
REFRESH-INTERVAL:P3D
CALSCALE:GREGORIAN
BEGIN:VEVENT
DTSTART;VALUE=DATE:20130402
DTEND;VALUE=DATE:20130403
TRANSP:TRANSPARENT
X-MICROSOFT-CDO-ALLDAYEVENT:TRUE
SUMMARY:Golf Committee meeting
DESCRIPTION:It's time for the golf committee to get together and plan our annual Home Builders golf tournament. Please plan to attend our first committee meeting of the year on Tuesday\, April 2 at 9 AM. We will meet at the HBA office. The committee also needs to select a chairman at this meeting. A tournament date of Thursday\, June 13 at Egwani Farms has been reserved for an afternoon scramble. Registration and sponsor forms need to go out soon! RSVP.\n \n Egwani Farms Tournament Calendar:\n \n                      April                                   Saturday\, April 20th          South Doyle High School                        Saturday\, April 27th          Garden Discovery Learning Center                        Tuesday\, April 30th          Knoxville Boys and Gilrs Sports Camp                        May                                   Tuesday\, May 7th          Pellissippi State Foundation                        Thursday\, May 16th          Second Harvest Food Bank                        June                                   Saturday\, June 1st          Kingdom Design Ministries                        Friday\, June 7th          Ronald McDonald House                        Tuesday\, June 18th          Justin Cochran Spinal Cord Foundation                        Friday\, June 21st          United Way of Blount County
X-ALT-DESC;FMTTYPE=text/html:It&#39\;s time for the&nbsp\;golf committee to get together and plan our annual Home Builders golf tournament. Please plan to attend our first committee meeting of the year on Tuesday\, April 2 at 9 AM. We will meet at the HBA office. The committee also needs to select a chairman at this meeting. A tournament date of Thursday\, June 13 at Egwani Farms has been reserved for an afternoon scramble. Registration and sponsor forms need to go out soon! RSVP.<br> <br> Egwani Farms Tournament Calendar:<br> <br> <table border=0 cellpadding=2 id=table1 width=527>    <tbody>       <tr>          <td align=right><strong><span style=font-family: arial>April</span></strong></td>          <td>&nbsp\;</td>       </tr>       <tr>          <td align=right>Saturday\, April 20th</td>          <td>South Doyle High School</td>       </tr>       <tr>          <td align=right>Saturday\, April 27th</td>          <td>Garden Discovery Learning Center</td>       </tr>       <tr>          <td align=right>Tuesday\, April 30th</td>          <td>Knoxville Boys and Gilrs Sports Camp</td>       </tr>       <tr>          <td align=right><strong><span style=font-family: arial>May</span></strong></td>          <td>&nbsp\;</td>       </tr>       <tr>          <td align=right>Tuesday\, May 7th</td>          <td>Pellissippi State Foundation</td>       </tr>       <tr>          <td align=right>Thursday\, May 16th</td>          <td>Second Harvest Food Bank</td>       </tr>       <tr>          <td align=right><strong><span style=font-family: arial>June</span></strong></td>          <td>&nbsp\;</td>       </tr>       <tr>          <td align=right height=20>Saturday\, June 1st</td>          <td>Kingdom Design Ministries</td>       </tr>       <tr>          <td align=right>Friday\, June 7th</td>          <td>Ronald McDonald House</td>       </tr>       <tr>          <td align=right>Tuesday\, June 18th</td>          <td>Justin Cochran Spinal Cord Foundation</td>       </tr>       <tr>          <td align=right>Friday\, June 21st</td>          <td>United Way of Blount County</td>       </tr>    </tbody> </table> <br> <br>
LOCATION:221 Clark Street\, NW Knoxville\, TN
UID:e.9402.502
SEQUENCE:3
DTSTAMP:20260421T004808Z
URL:http://hbaknoxvilletn.memberzone.com/events/details/golf-committee-meeting-04-02-2013-502
END:VEVENT

END:VCALENDAR
