BEGIN:VCALENDAR
VERSION:2.0
PRODID:-//ChamberMaster//Event Calendar 2.0//EN
METHOD:PUBLISH
X-PUBLISHED-TTL:P3D
REFRESH-INTERVAL:P3D
CALSCALE:GREGORIAN
BEGIN:VEVENT
DTSTART;VALUE=DATE:20120524
DTEND;VALUE=DATE:20120525
TRANSP:TRANSPARENT
X-MICROSOFT-CDO-ALLDAYEVENT:TRUE
SUMMARY:Golf Committee - Hotdog lunch hosting
DESCRIPTION:Thank you for volunteering to serve on the Golf Committee. Our next meeting is at the Hotdog Lunch on Thursday\, 5/24/12. We will host the Hotdog Lunch at the HBAGK Office from 11:30 - 1:00 to promote the tournament and conduct a drawing for one FREE player (winner must be present and a current member in good standing). Please arrive by 11:00 am to prepare for lunch.\n \n Our main focus now is recruiting players/teams\, goody bag & raffle prize donations\, and sponsors.\n \n Here is what we have as of Thursday 5/17:\n \n Corporate Sponsors - ORNL FCU (includes shirts). Lunch Sponsors - William Knight Insurance Agency\n \n 20 Teams - CRS\, Farmers\, Fairfax\, Ferguson\, General Shale\, Home Federal (x2)\, Marvin Concepts\, MIG\, Mix1\, ORNL FCU\, PPG\, Prime Lending\, Radius Homes\, RM-USA\, Robert Campbell\, Russells's Pest (x2)\, THDA\, Tindell's\, 1 single\n \n 9 Hole Sponsors - CFI Insulation\, CRS\, CU Community\, First Peoples Bank\, Home Federal\, Master Dry\, ORNL FCU\, THDA\, Tindell's\n \n Goody Bag Items - 2-10 HBW\, Arrow\, HPUD\, Knox TVA ECU\, Quiznos\, PPG\, SunTrust Mortgage\, Terminix\, Zurix\n \n Raffle Prizes - Applebee's\, Home Federal\, Knox TVA ECU\, PPG\, Russell's Pest\n \n Snack Sponsors - BB&T\, Robert Campbell\, Tallent Title (SOLD OUT)\n \n Beverage Sponsors - 0\n \n (Reminder\, you can retrieve your login name & password by clicking the registration link in this message then following the prompt using your email address to have the information sent to you)
X-ALT-DESC;FMTTYPE=text/html:<span style=font-size: 9pt><span style=color: #222222><span style=font-family: arial\, sans-serif>Thank you for volunteering to serve on the Golf Committee. Our next meeting is at the Hotdog Lunch on Thursday\, 5/24/12. We will host the Hotdog Lunch&nbsp\;at the HBAGK Office from 11:30 - 1:00 to promote the tournament and conduct a drawing for one FREE player (winner must be present and a current member in good standing). Please arrive by 11:00 am to prepare for lunch.<br> <br> Our main focus now is recruiting players/teams\, goody bag &amp\; raffle prize donations\, and&nbsp\;sponsors.</span></span></span><br> <br> <span style=font-size: 9pt><span style=color: #222222><span style=font-family: arial\, sans-serif><strong><u>Here is what we have as of Thursday 5/17:</u></strong><br> <br> Corporate Sponsors - ORNL FCU (includes shirts). Lunch Sponsors - William Knight Insurance Agency<br> <br> 20 Teams - CRS\, Farmers\, Fairfax\, Ferguson\, General Shale\,&nbsp\;Home Federal (x2)\, Marvin Concepts\, MIG\, Mix1\, ORNL FCU\, PPG\, Prime Lending\, Radius Homes\, RM-USA\, Robert Campbell\, Russells&#39\;s Pest (x2)\, THDA\, Tindell&#39\;s\, 1 single<br> <br> 9 Hole Sponsors - CFI Insulation\, CRS\, CU Community\, First Peoples Bank\,&nbsp\;Home Federal\, Master Dry\, ORNL FCU\, THDA\, Tindell&#39\;s<br> <br> Goody Bag Items - 2-10 HBW\, Arrow\,&nbsp\;HPUD\, Knox TVA ECU\,&nbsp\;Quiznos\,&nbsp\;PPG\, SunTrust Mortgage\, Terminix\, Zurix<br> <br> Raffle Prizes - Applebee&#39\;s\, Home Federal\, Knox TVA ECU\, PPG\, Russell&#39\;s Pest<br> <br> Snack Sponsors - BB&amp\;T\, Robert Campbell\, Tallent Title (SOLD OUT)<br> <br> Beverage Sponsors - 0</span></span></span><br> <br> <span style=font-family: arial\, sans-serif><strong>(Reminder\, you can retrieve your login name &amp\; password by clicking the registration link in this message then following the prompt using your email address to have the information sent to you)</strong></span><br> <br>
LOCATION:221 Clark Street\, NW Knoxville\, TN
UID:e.9402.419
SEQUENCE:3
DTSTAMP:20260422T024118Z
URL:http://hbaknoxvilletn.memberzone.com/events/details/golf-committee-hotdog-lunch-hosting-05-24-2012-419
END:VEVENT

END:VCALENDAR
