BEGIN:VCALENDAR
VERSION:2.0
PRODID:-//ChamberMaster//Event Calendar 2.0//EN
METHOD:PUBLISH
X-PUBLISHED-TTL:P3D
REFRESH-INTERVAL:P3D
CALSCALE:GREGORIAN
BEGIN:VEVENT
DTSTART;VALUE=DATE:20140327
DTEND;VALUE=DATE:20140328
TRANSP:TRANSPARENT
X-MICROSOFT-CDO-ALLDAYEVENT:TRUE
SUMMARY:Golf Committee - Home Builders Annual Tournament
DESCRIPTION:Please attend our first committee meeting of the year to plan the annual golf tournament. Lunch is available for $8\; RSVP via email\, sign in or call Rachael\, 546-4665.Committee Chair: Con Elfes\, Prestige Design\, Inc. (865) 934-7348\n\nTournament Details:\nWho: HBAGK MembersWhat: Annual Golf Tournament\, sponsored by ORNL Federal Credit UnionWhen: June 12\, 2014\, 1:00 shotgun start (lunch provided by William Knight Insurance Agency at 11:30 AM)Where: Egwani Farms Golf CourseWhy: Annual fund raiser\, business networking\, friends\, fun and golf!
X-ALT-DESC;FMTTYPE=text/html:<div><br></div>Please attend our first committee meeting of the year to plan the annual golf tournament. Lunch is available for $8\; RSVP via email\, sign in or call Rachael\, 546-4665.<div>Committee Chair: Con Elfes\, Prestige Design\, Inc. (865) 934-7348<br><div><br></div><div><span style=font-weight: bold\;>Tournament Details:</span><br><div>Who: HBAGK Members</div><div>What: Annual Golf Tournament\, sponsored by ORNL Federal Credit Union</div><div>When: June 12\, 2014\, 1:00 shotgun start (lunch provided by William Knight Insurance Agency at 11:30 AM)</div><div>Where: Egwani Farms Golf Course</div><div>Why: Annual fund raiser\, business networking\, friends\, fun and golf!</div></div></div><div><br></div>
LOCATION:221 Clark Street\, NW Knoxville\, TN
UID:e.9402.593
SEQUENCE:3
DTSTAMP:20260420T010609Z
URL:http://hbaknoxvilletn.memberzone.com/events/details/golf-committee-home-builders-annual-tournament-03-27-2014-593
END:VEVENT

END:VCALENDAR
