BEGIN:VCALENDAR
VERSION:2.0
PRODID:-//ChamberMaster//Event Calendar 2.0//EN
METHOD:PUBLISH
X-PUBLISHED-TTL:P3D
REFRESH-INTERVAL:P3D
CALSCALE:GREGORIAN
BEGIN:VEVENT
DTSTART;VALUE=DATE:20081007
DTEND;VALUE=DATE:20081008
TRANSP:TRANSPARENT
X-MICROSOFT-CDO-ALLDAYEVENT:TRUE
SUMMARY:Golf Committee
DESCRIPTION:The golf committee meeting has been cancelled.
X-ALT-DESC;FMTTYPE=text/html:<p>The golf committee meeting has been cancelled.</p>
LOCATION:221 Clark Street\, NW Knoxville\, TN
UID:e.9402.135
SEQUENCE:3
DTSTAMP:20260425T231724Z
URL:http://hbaknoxvilletn.memberzone.com/events/details/golf-committee-10-07-2008-135
END:VEVENT

END:VCALENDAR
