BEGIN:VCALENDAR
VERSION:2.0
PRODID:-//ChamberMaster//Event Calendar 2.0//EN
METHOD:PUBLISH
X-PUBLISHED-TTL:P3D
REFRESH-INTERVAL:P3D
CALSCALE:GREGORIAN
BEGIN:VEVENT
DTSTART;VALUE=DATE:20110601
DTEND;VALUE=DATE:20110602
TRANSP:TRANSPARENT
X-MICROSOFT-CDO-ALLDAYEVENT:TRUE
SUMMARY:Golf Committee
DESCRIPTION:SPONSORS & PLAYERS NEEDED!!! Please plan to attend the next HBAGK Golf Committee at 9:00 AM\, Wednesday\, June 1 at the HBAGK office. We will review committee calls to previous sponsors and give an overall update of the tournament.  Thank you!
X-ALT-DESC;FMTTYPE=text/html:<p style=text-align: center><big>SPONSORS &amp\; PLAYERS NEEDED!!!</big></p> <p><big>Please plan to attend the next&nbsp\;HBAGK Golf Committee at&nbsp\;9:00 AM\, Wednesday\, June 1 at the HBAGK office.&nbsp\;We will review committee calls to previous sponsors and give an overall update of the tournament.&nbsp\; Thank you!</big></p>
LOCATION:221 Clark Street\, NW Knoxville\, TN
UID:e.9402.303
SEQUENCE:3
DTSTAMP:20260423T031023Z
URL:http://hbaknoxvilletn.memberzone.com/events/details/golf-committee-06-01-2011-303
END:VEVENT

END:VCALENDAR
