BEGIN:VCALENDAR
VERSION:2.0
PRODID:-//ChamberMaster//Event Calendar 2.0//EN
METHOD:PUBLISH
X-PUBLISHED-TTL:P3D
REFRESH-INTERVAL:P3D
CALSCALE:GREGORIAN
BEGIN:VEVENT
DTSTART;VALUE=DATE:20100601
DTEND;VALUE=DATE:20100602
TRANSP:TRANSPARENT
X-MICROSOFT-CDO-ALLDAYEVENT:TRUE
SUMMARY:Golf Committee
DESCRIPTION:Please plan to attend the final HBAGK Golf Committee meeting on Tuesday\, June 1st at noon at the HBAGK office. Please follow up on all of your player and sponsor calls prior to this meeting. Lunch will be provided for $6.00.  Please RSVP to this message if you can attend and if you would like lunch.
X-ALT-DESC;FMTTYPE=text/html:<p><big><font size=4>Please plan to attend&nbsp\;the final HBAGK Golf Committee meeting on&nbsp\;Tuesday\,&nbsp\;June&nbsp\;1st&nbsp\;at noon at the HBAGK office. Please follow up on all of your player and sponsor calls prior to this meeting. </font></big><big><font size=4>Lunch will be provided for $6.00.&nbsp\; Please RSVP to this message if you can attend and if you would like lunch.</font></big></p>
LOCATION:221 Clark Street\, NW Knoxville\, TN
UID:e.9402.222
SEQUENCE:3
DTSTAMP:20260424T080349Z
URL:http://hbaknoxvilletn.memberzone.com/events/details/golf-committee-06-01-2010-222
END:VEVENT

END:VCALENDAR
