BEGIN:VCALENDAR
VERSION:2.0
PRODID:-//ChamberMaster//Event Calendar 2.0//EN
METHOD:PUBLISH
X-PUBLISHED-TTL:P3D
REFRESH-INTERVAL:P3D
CALSCALE:GREGORIAN
BEGIN:VEVENT
DTSTART;VALUE=DATE:20110511
DTEND;VALUE=DATE:20110512
TRANSP:TRANSPARENT
X-MICROSOFT-CDO-ALLDAYEVENT:TRUE
SUMMARY:Golf Committee
DESCRIPTION:SPONSORS! SPONSORS! SPONSORS!!! Please plan to attend the next HBAGK Golf Committee at 9:00 AM\, Wednesday\, May 11 at the HBAGK office. We will review committee calls to previous sponsors and give an overall update of the tournament. Player and sponsorship forms have been sent to all members. If you know another member who would be a good addition to the committee please invite them to attend and participate. Thank you!
X-ALT-DESC;FMTTYPE=text/html:<p style=text-align: center><big>SPONSORS! SPONSORS! SPONSORS!!!</big></p> <p><big>Please plan to attend the next&nbsp\;HBAGK Golf Committee at <span style=color: #ff0000>9:00 AM</span><span style=color: #ff0000>\, Wednesday\,&nbsp\;May&nbsp\;11</span> at the HBAGK office.&nbsp\;We will review committee calls to previous sponsors and give an overall update of the tournament. Player and sponsorship forms have been sent to all members. If you know another member who would be a good addition to the committee please invite them to attend and participate. Thank you!</big></p>
LOCATION:221 Clark Street\, NW Knoxville\, TN
UID:e.9402.295
SEQUENCE:3
DTSTAMP:20260423T080718Z
URL:http://hbaknoxvilletn.memberzone.com/events/details/golf-committee-05-11-2011-295
END:VEVENT

END:VCALENDAR
