BEGIN:VCALENDAR
VERSION:2.0
PRODID:-//ChamberMaster//Event Calendar 2.0//EN
METHOD:PUBLISH
X-PUBLISHED-TTL:P3D
REFRESH-INTERVAL:P3D
CALSCALE:GREGORIAN
BEGIN:VEVENT
DTSTART;VALUE=DATE:20120503
DTEND;VALUE=DATE:20120504
TRANSP:TRANSPARENT
X-MICROSOFT-CDO-ALLDAYEVENT:TRUE
SUMMARY:Golf Committee
DESCRIPTION:Thank you for volunteering to serve on the HBAGK Golf Committee.  Our next meeting is scheduled for 9 AM\, Thursday\, 5/3/12 at the HBAGK office. The date and location are set for Thursday\, June 14 at Three Ridges Golf Course. Our main focus now is recruiting player sign-ups\, goody bag & raffle prize donations\, sponsors and adding new ideas to refresh this fun networking event for our members.\n \n Please respond to let us know if you can attend so we can prepare our materials.\n \n Corporate Sponsors - ORNL FCU (includes shirts). Lunch Sponsors - William Knight Insurance Agency\n \n Teams - Fairfax\, Home Federal (x2)\, ORNL FCU\, Prime Lending\, Radius Homes\, Robert Campbell\, Russells's Pest (x2)\, THDA\, Tindell's\n \n Hole Sponsors - CFI Insulation\, CU Community\, First Peoples Bank\, Home Federal\, ORNL FCU\, THDA\, Tindell's\n \n Goody Bag Items - 2-10 HBW\, HPUD\, Knox TVA ECU\, Quiznos\, SunTrust Mortgage\n \n Raffle Prizes - Applebee's\, Home Federal\, Knox TVA ECU\, Russell's Pest\n \n Snack Sponsors - BB&T\, Robert Campbell\, Tallent Title (SOLD OUT)\n \n Beverage Sponsors - 0\n \n (Reminder\, you can retrieve your login name & password by clicking the registration link in this message then following the prompt using your email address to have the information sent to you)
X-ALT-DESC;FMTTYPE=text/html:<span style=font-size: 9pt><span style=color: #222222><span style=font-family: arial\, sans-serif>Thank you for volunteering to serve on the HBAGK Golf Committee.&nbsp\; Our next meeting is scheduled for 9 AM\, Thursday\, 5/3/12 at the HBAGK office.&nbsp\;The date and location are set for Thursday\, June 14 at Three Ridges Golf Course. Our main focus now is recruiting player sign-ups\, goody bag &amp\; raffle prize donations\, sponsors and adding new ideas to refresh this fun networking event for our members.</span></span></span><br> <br> <strong><u><span style=font-size: 9pt><span style=color: red><span style=font-family: arial\, sans-serif>Please respond </span></span></span></u></strong><span style=font-size: 9pt><span style=color: #222222><span style=font-family: arial\, sans-serif>to let us know if you can attend so we can prepare our materials.<br> <br> Corporate Sponsors - ORNL FCU (includes shirts). Lunch Sponsors - William Knight Insurance Agency<br> <br> Teams - Fairfax\, Home Federal (x2)\, ORNL FCU\, Prime Lending\, Radius Homes\, Robert Campbell\, Russells&#39\;s Pest (x2)\, THDA\, Tindell&#39\;s<br> <br> Hole Sponsors - CFI Insulation\, CU Community\, First Peoples Bank\,&nbsp\;Home Federal\, ORNL FCU\, THDA\, Tindell&#39\;s<br> <br> Goody Bag Items - 2-10 HBW\, HPUD\, Knox TVA ECU\, Quiznos\,&nbsp\;SunTrust Mortgage<br> <br> Raffle Prizes - Applebee&#39\;s\, Home Federal\, Knox TVA ECU\, Russell&#39\;s Pest<br> <br> Snack Sponsors - BB&amp\;T\, Robert Campbell\, Tallent Title (SOLD OUT)<br> <br> Beverage Sponsors - 0</span></span></span><br> <br> <span style=font-family: arial\, sans-serif><strong>(Reminder\, you can retrieve your login name &amp\; password by clicking the registration link in this message then following the prompt using your email address to have the information sent to you)</strong></span><br> <br>
LOCATION:221 Clark Street\, NW Knoxville\, TN
UID:e.9402.409
SEQUENCE:3
DTSTAMP:20260422T023725Z
URL:http://hbaknoxvilletn.memberzone.com/events/details/golf-committee-05-03-2012-409
END:VEVENT

END:VCALENDAR
