BEGIN:VCALENDAR
VERSION:2.0
PRODID:-//ChamberMaster//Event Calendar 2.0//EN
METHOD:PUBLISH
X-PUBLISHED-TTL:P3D
REFRESH-INTERVAL:P3D
CALSCALE:GREGORIAN
BEGIN:VEVENT
DTSTART;VALUE=DATE:20110406
DTEND;VALUE=DATE:20110407
TRANSP:TRANSPARENT
X-MICROSOFT-CDO-ALLDAYEVENT:TRUE
SUMMARY:Golf Committee
DESCRIPTION:Please plan to attend the next HBAGK Golf Committee at 9:00 AM\, Wednesday\, April 6 at the HBAGK office. We will discuss all details about the tournament including date\, location\, players and sponsorship. Player and sponsorship forms will be sent to all members soon. If you know another member who would be a good addition to the committee please invite them to attend and participate. Thank you!
X-ALT-DESC;FMTTYPE=text/html:<p><big>Please plan to attend the next&nbsp\;HBAGK Golf Committee at 9:00 AM\, Wednesday\,&nbsp\;April 6&nbsp\;at the HBAGK office. We will discuss all details about the tournament including date\, location\, players and sponsorship. Player and sponsorship forms will be sent to all members soon. If you know another member who would be a good addition to the committee please invite them to attend and participate. Thank you!</big></p>
LOCATION:221 Clark Street\, NW Knoxville\, TN
UID:e.9402.279
SEQUENCE:3
DTSTAMP:20260423T063329Z
URL:http://hbaknoxvilletn.memberzone.com/events/details/golf-committee-04-06-2011-279
END:VEVENT

END:VCALENDAR
