BEGIN:VCALENDAR
VERSION:2.0
PRODID:-//ChamberMaster//Event Calendar 2.0//EN
METHOD:PUBLISH
X-PUBLISHED-TTL:P3D
REFRESH-INTERVAL:P3D
CALSCALE:GREGORIAN
BEGIN:VEVENT
DTSTART;VALUE=DATE:20100330
DTEND;VALUE=DATE:20100331
TRANSP:TRANSPARENT
X-MICROSOFT-CDO-ALLDAYEVENT:TRUE
SUMMARY:Golf Committee
DESCRIPTION:Please plan to attend the first meeting of the HBAGK Golf Committee on Tuesday\, March 30 at noon at the HBAGK office. Lunch will be provided for $6.00.  Please RSVP to this message if you can attend and if you would like lunch.
X-ALT-DESC;FMTTYPE=text/html:<p><big><font size=4>Please plan to attend the first meeting of the HBAGK Golf Committee on&nbsp\;Tuesday\, March 30&nbsp\;at noon at the HBAGK office. </font></big><big><font size=4>Lunch will be provided for $6.00.&nbsp\; Please RSVP to this message if you can attend and if you would like lunch.</font></big></p>
LOCATION:221 Clark Street\, NW Knoxville\, TN
UID:e.9402.206
SEQUENCE:3
DTSTAMP:20260424T120942Z
URL:http://hbaknoxvilletn.memberzone.com/events/details/golf-committee-03-30-2010-206
END:VEVENT

END:VCALENDAR
