BEGIN:VCALENDAR
VERSION:2.0
PRODID:-//ChamberMaster//Event Calendar 2.0//EN
METHOD:PUBLISH
X-PUBLISHED-TTL:P3D
REFRESH-INTERVAL:P3D
CALSCALE:GREGORIAN
BEGIN:VEVENT
DTSTART;VALUE=DATE:20120329
DTEND;VALUE=DATE:20120330
TRANSP:TRANSPARENT
X-MICROSOFT-CDO-ALLDAYEVENT:TRUE
SUMMARY:Golf Committee
DESCRIPTION:RESCHEDULED\n    \n    Thank you for volunteering to serve on the HBAGK Golf Committee.  We will meet at 12:00 PM\, Thursday\, 3/29/12 at the HBAGK office. Topics include: tournament date\, location and new ideas to refresh this fun networking event for our members.\n    \n    LUNCH WILL BE AVAILABLE FOR THIS MEETING BUT YOU NEED TO RSVP AND LET US KNOW IF YOU PLAN TO HAVE LUNCH - COST IS $8 and we accept cash\, checks or credit cards.\n    \n    (Hint\, you can retrieve your login name & password by clicking the registration link in this message then following the prompt using your email address to have the information sent to you)\n    \n    If you know of other members who would be good additions to this committee please invite them to join us. Please respond to let us know if you can attend so we can prepare our materials and order the proper amount of food.
X-ALT-DESC;FMTTYPE=text/html:<p>RESCHEDULED<br>    <br>    Thank you for volunteering to serve on the HBAGK Golf Committee.&nbsp\; We will meet at 12:00 PM\,&nbsp\;Thursday\, 3/29/12&nbsp\;at the HBAGK office. Topics include: tournament date\, location and new ideas to refresh this fun networking event for our members.<br>    <br>    <u>LUNCH WILL BE AVAILABLE FOR THIS MEETING BUT YOU NEED TO RSVP AND LET US KNOW IF YOU PLAN TO HAVE LUNCH - COST IS $8 and we accept cash\, checks or credit cards.</u><br>    <br>    <span style=background-color: #ffff00><strong>(Hint\, you can retrieve your login name &amp\; password by clicking the registration link in this message then following the prompt using your email address to have the information sent to you)</strong></span><br>    <br>    If&nbsp\;you know of other members who would be good additions to this committee please invite them to join us. <span style=color: #ff0000><strong><u>Please respond </u></strong></span>to let us know if you can attend so we can prepare our materials and order the proper amount of food.</p>
LOCATION:221 Clark Street\, NW Knoxville\, TN
UID:e.9402.393
SEQUENCE:3
DTSTAMP:20260422T075616Z
URL:http://hbaknoxvilletn.memberzone.com/events/details/golf-committee-03-29-2012-393
END:VEVENT

END:VCALENDAR
