BEGIN:VCALENDAR
VERSION:2.0
PRODID:-//ChamberMaster//Event Calendar 2.0//EN
METHOD:PUBLISH
X-PUBLISHED-TTL:P3D
REFRESH-INTERVAL:P3D
CALSCALE:GREGORIAN
BEGIN:VEVENT
DTSTART;VALUE=DATE:20110329
DTEND;VALUE=DATE:20110330
TRANSP:TRANSPARENT
X-MICROSOFT-CDO-ALLDAYEVENT:TRUE
SUMMARY:Golf Committee
DESCRIPTION:Please plan to attend the first meeting of the HBAGK Golf Committee at 4:00 PM\, Tuesday\, March 29 at the HBAGK office. We will discuss all details about the tournament including date\, location\, players and sponsorship. If you know another member who would be a good addition to the committee please invite them to attend and participate. Thank you!
X-ALT-DESC;FMTTYPE=text/html:<p><big>Please plan to attend the first meeting of the HBAGK Golf Committee at 4:00 PM\, Tuesday\, March 29 at the HBAGK office. We will discuss all details about the tournament including date\, location\, players and sponsorship. If you know another member who would be a good addition to the committee please invite them to attend and participate. Thank you!</big></p>
LOCATION:221 Clark Street\, NW Knoxville\, TN
UID:e.9402.276
SEQUENCE:3
DTSTAMP:20260423T123257Z
URL:http://hbaknoxvilletn.memberzone.com/events/details/golf-committee-03-29-2011-276
END:VEVENT

END:VCALENDAR
