BEGIN:VCALENDAR
VERSION:2.0
PRODID:-//ChamberMaster//Event Calendar 2.0//EN
METHOD:PUBLISH
X-PUBLISHED-TTL:P3D
REFRESH-INTERVAL:P3D
CALSCALE:GREGORIAN
BEGIN:VEVENT
DTSTART;VALUE=DATE:20090324
DTEND;VALUE=DATE:20090325
TRANSP:TRANSPARENT
X-MICROSOFT-CDO-ALLDAYEVENT:TRUE
SUMMARY:Golf Committee
DESCRIPTION:The HBAGK Golf Committee will meet at the HBA office to plan the annual golf tournament. At this meeting we will discuss the date and location for the tournament as well as sponsorship opportunities. Lunch will be provided for $6 and we accept cash\, checks or credit cards.Please respond to let us know if you will attend the meeting and if you would like to have lunch so we can order the right amount of food. Thank you for volunteering to serve on this committee!
X-ALT-DESC;FMTTYPE=text/html:<p>The HBAGK Golf Committee will meet at the HBA office to plan the annual golf tournament. At this meeting we will discuss the date and location for the tournament as well as sponsorship opportunities.</p> <p>Lunch will be provided for $6 and we accept cash\, checks or credit cards.Please respond to let us know if you will attend the meeting and if you would like to have lunch so we can order the right amount of food. Thank you for volunteering to serve on this committee!</p>
LOCATION:221 Clark Street\, NW Knoxville\, TN
UID:e.9402.163
SEQUENCE:3
DTSTAMP:20260425T121454Z
URL:http://hbaknoxvilletn.memberzone.com/events/details/golf-committee-03-24-2009-163
END:VEVENT

END:VCALENDAR
