BEGIN:VCALENDAR
VERSION:2.0
PRODID:-//ChamberMaster//Event Calendar 2.0//EN
METHOD:PUBLISH
X-PUBLISHED-TTL:P3D
REFRESH-INTERVAL:P3D
CALSCALE:GREGORIAN
BEGIN:VEVENT
DTSTART;VALUE=DATE:20130412
DTEND;VALUE=DATE:20130413
TRANSP:TRANSPARENT
X-MICROSOFT-CDO-ALLDAYEVENT:TRUE
SUMMARY:Fair Housing Training
DESCRIPTION:Knox County Community Development (KCCD) will be hosting upcoming  Fair Housing training on Friday\, April 12\, 2013 from 9:00 AM   12:00 NOON at the Cansler YMCA for our Housing Partners and area Homebuilders\, Realtors and Property Managers.  The training topic is "Strengthening Fair Housing and Equal Opportunity Performance".\n  \n KCCD has retained Rocky Wade\, Senior Associate with the Housing\, Community\, and Economic Development Practice of Training and Development Associates to provide the training. Training and Development Associates is nationally recognized for assisting governmental agencies with technical assistance.  Mr. Wade has extensive experience and we look forward the training.\n  \n There is no charge for the upcoming training and if you or staff from your company/agency would like to attend\, please feel free to contact Pam Brown at 215-3941 to register.
X-ALT-DESC;FMTTYPE=text/html:<span style=font-size: 11pt><span style=color: #1f497d><span style=font-family: calibri\,sans-serif>Knox County Community Development (KCCD) will be hosting upcoming &nbsp\;Fair Housing training on Friday\, April 12\, 2013 from 9:00 AM &ndash\; 12:00 NOON at the Cansler YMCA for our Housing Partners and area Homebuilders\, Realtors and Property Managers.&nbsp\; The training topic is &ldquo\;Strengthening Fair Housing and Equal Opportunity Performance&rdquo\;.</span></span></span><br> &nbsp\;<br> <span style=font-size: 11pt><span style=color: #1f497d><span style=font-family: calibri\,sans-serif>KCCD has retained Rocky Wade\, Senior Associate with the Housing\, Community\, and Economic Development Practice of Training and Development Associates to provide the training. Training and Development Associates is nationally recognized for assisting governmental agencies with technical assistance.&nbsp\; Mr. Wade has extensive experience and we look forward the training.</span></span></span><br> &nbsp\;<br> <span style=font-size: 11pt><span style=color: #1f497d><span style=font-family: calibri\,sans-serif>There is <em>no charge</em> for the upcoming training and if you or staff from your company/agency would like to attend\, please feel free to contact Pam Brown at 215-3941 to register.</span></span></span><br>
LOCATION:616 Jessamine Street Knoxville\, TN
UID:e.9402.504
SEQUENCE:3
DTSTAMP:20260421T005117Z
URL:http://hbaknoxvilletn.memberzone.com/events/details/fair-housing-training-04-12-2013-504
END:VEVENT

END:VCALENDAR
