BEGIN:VCALENDAR
VERSION:2.0
PRODID:-//ChamberMaster//Event Calendar 2.0//EN
METHOD:PUBLISH
X-PUBLISHED-TTL:P3D
REFRESH-INTERVAL:P3D
CALSCALE:GREGORIAN
BEGIN:VEVENT
DTSTART;VALUE=DATE:20110323
DTEND;VALUE=DATE:20110324
TRANSP:TRANSPARENT
X-MICROSOFT-CDO-ALLDAYEVENT:TRUE
SUMMARY:Education Committee Meeting
DESCRIPTION:The HBAGK Education Committee will meet on Wednesday\, 3/23/11 at 1:15 PM to plan the education schedule for 2011. Please reply to this message or follow the link to register or decline this event. We have several items to discuss\, including: EPA Lead Paint training dates\, NAHB designation classes and BAR/PREP exam dates. If you know a member who would be a good addition to this committee please invite them to attend and get involved. Also\, I encourage you to visit the Education section at www.nahb.org to learn more about the designation programs and requirements. There is a lot of valuable information that can help us improve our committee and strengthen the association. Thank you!
X-ALT-DESC;FMTTYPE=text/html:<p>The HBAGK Education Committee will meet on Wednesday\, 3/23/11 at 1:15 PM to plan the education schedule for 2011. Please reply to this message or follow the link to register or decline this event. We have several items to discuss\, including: EPA Lead Paint training dates\, NAHB designation classes and BAR/PREP exam dates. If you know a member who would be a good addition to this committee please invite them to attend and get involved.</p> <p>Also\, I encourage you to visit the Education section at <a href=http://www.nahb.org>www.nahb.org</a> to learn more about the designation programs and requirements. There is a lot of valuable information that can help us improve our committee and strengthen the association. Thank you!</p>
LOCATION:221 Clark Street\, NW Knoxville\, TN
UID:e.9402.272
SEQUENCE:3
DTSTAMP:20260423T123842Z
URL:http://hbaknoxvilletn.memberzone.com/events/details/education-committee-meeting-03-23-2011-272
END:VEVENT

END:VCALENDAR
