BEGIN:VCALENDAR
VERSION:2.0
PRODID:-//ChamberMaster//Event Calendar 2.0//EN
METHOD:PUBLISH
X-PUBLISHED-TTL:P3D
REFRESH-INTERVAL:P3D
CALSCALE:GREGORIAN
BEGIN:VEVENT
DTSTART;VALUE=DATE:20120321
DTEND;VALUE=DATE:20120322
TRANSP:TRANSPARENT
X-MICROSOFT-CDO-ALLDAYEVENT:TRUE
SUMMARY:Education Committee
DESCRIPTION:The HBAGK Education Committee will host its first meeting of the year to plan for 2012. Our next educational seminars are scheduled in just a couple of weeks on Wednesday\, April 4\, see attached flyer for details. New ideas and topics are sought for our members so if you have an idea for an Education program please share your ideas with us at the meeting. Lunch will NOT be provided at this meeting. We appreciate your commitment to serve on the committee and look forward to seeing you at the meeting.\n \n Thank you!
X-ALT-DESC;FMTTYPE=text/html:The HBAGK Education Committee will host its first meeting of the year to plan for 2012. Our next educational seminars are scheduled in just a couple of weeks on Wednesday\, April 4\, see attached flyer for details. New ideas and topics are sought for our members so if you have an idea for an Education program please share your ideas with us at the meeting. Lunch will NOT be provided at this meeting. We appreciate your commitment to serve on the committee and look forward to seeing you at the meeting.<br> <br> Thank you!
LOCATION:221 Clark Street\, NW Knoxville\, TN
UID:e.9402.388
SEQUENCE:3
DTSTAMP:20260422T075616Z
URL:http://hbaknoxvilletn.memberzone.com/events/details/education-committee-03-21-2012-388
END:VEVENT

END:VCALENDAR
