BEGIN:VCALENDAR
VERSION:2.0
PRODID:-//ChamberMaster//Event Calendar 2.0//EN
METHOD:PUBLISH
X-PUBLISHED-TTL:P3D
REFRESH-INTERVAL:P3D
CALSCALE:GREGORIAN
BEGIN:VEVENT
DTSTART:20110228T050000Z
DTEND:20110301T050000Z
X-MICROSOFT-CDO-ALLDAYEVENT:FALSE
SUMMARY:Earth Craft Builder and Renovation Training
DESCRIPTION:EarthCraft Builder Training IND 006 - February 28\, 2011 Builder Trainings provide a comprehensive overview of best practices for sustainable construction and design and explore the ways the EarthCraft program can help you get started in the green building sector. Learn cost-effective ways to improve the energy efficiency\, indoor air quality\, comfort and durability of homes\, enhancing overall client appeal.\n \n This training will discuss:      Building science basics     EarthCraft program fundamentals      The EarthCraft certification process     Strategies for marketing EarthCraft projects     Green building incentive programs  The EarthCraft Builder training qualifies attendees for continuing education credit from the following organizations: AIA   7 LU\, CSI   .8 CEU's\, GBCI   8 hours\, The Housing Institute CPHB program   6 hours\, BPI   7 hours.  EarthCraft Renovation Training IND 007 - March 1\, 2011 In this seven-and-a-half-hour course\, renovators\, contractors\, architects and project managers learn how to apply high-performance construction techniques to renovation and remodeling projects.\n The course will include:      Methods for improving the energy efficiency\, indoor air quality and durability of existing buildings     An overview of EarthCraft marketing\, administration and program protocol     Information about construction materials and services provided by EarthCraft sponsors  The EarthCraft Renovation training qualifies attendees for continuing education credit from the following organizations: AIA   7 LU\, BPI   7 hours.   Where: Hardin Valley campus\; Lamar Alexander Building room 206. When: February 28 & March 1\, 2011 8:00 a.m.-5:00 p.m. To register call (865) 539.7167 Cost of training is free! ($375 value) Lunch will be provided! Space is limited so call today. Business and Community Services (865) 539.7167
X-ALT-DESC;FMTTYPE=text/html:<p><b><font size=3><span style=font-size: 13.5pt><em><font color=#4f81bd>EarthCraft Builder Training IND 006 - </font><span style=color: #ff0000>February 28\, 2011</span></em></span></font></b></p> <div style=margin: 0in 0in 0pt><span style=font-size: 11pt>Builder Trainings provide a comprehensive overview of best practices for sustainable construction and design and explore the ways the EarthCraft program can help you get started in the green building sector. Learn cost-effective ways to improve the energy efficiency\, indoor air quality\, comfort and durability of homes\, enhancing overall client appeal.<br /> <br /> This training will discuss:</span></div> <ul type=disc style=margin-top: 0in>     <li style=margin: 0in 0in 0pt>Building science basics</li>     <li style=margin: 0in 0in 0pt>EarthCraft program fundamentals&nbsp\;</li>     <li style=margin: 0in 0in 0pt>The EarthCraft certification process</li>     <li style=margin: 0in 0in 0pt>Strategies for marketing EarthCraft projects</li>     <li style=margin: 0in 0in 0pt>Green building incentive programs</li> </ul> <div><span style=font-size: 11pt>The EarthCraft Builder training qualifies attendees for continuing education credit from the following organizations: AIA &ndash\; 7 LU\, CSI &ndash\; .8 CEU&rsquo\;s\, GBCI &ndash\; 8 hours\, The Housing Institute CPHB program &ndash\; 6 hours\, BPI &ndash\; 7 hours. </span></div> <div style=margin: 10pt 0in 0pt><b><font size=3><span style=font-size: 13.5pt><em><font color=#4f81bd>EarthCraft Renovation Training IND 007 - </font><span style=color: #ff0000>March 1\, 2011</span></em></span></font></b></div> <div style=margin: 10pt 0in 0pt><b><font size=3><span style=font-size: 13.5pt /></font></b><span style=font-size: 11pt>In this seven-and-a-half-hour course\, renovators\, contractors\, architects and project managers learn how to apply high-performance construction techniques to renovation and remodeling projects.<br /> The course will include:</span></div> <ul type=disc>     <li style=margin: 0in 0in 0pt>Methods for improving the energy efficiency\, indoor air quality and durability of existing buildings</li>     <li style=margin: 0in 0in 0pt>An overview of EarthCraft marketing\, administration and program protocol</li>     <li style=margin: 0in 0in 0pt>Information about construction materials and services provided by EarthCraft sponsors</li> </ul> <div><span style=font-size: 11pt>The EarthCraft Renovation training qualifies attendees for continuing education credit from the following organizations: AIA &ndash\; 7 LU\, BPI &ndash\; 7 hours.</span></div> <div align=center><b>&nbsp\;</b></div> <div align=center><b><span style=font-size: 13.5pt>Where: Hardin Valley campus\; Lamar Alexander Building room 206.</span></b></div> <div align=center><b><span style=font-size: 13.5pt>When: February 28 &amp\; March 1\, 2011</span></b></div> <div align=center><b><span style=font-size: 13.5pt>8:00 a.m.-5:00 p.m.</span></b></div> <div align=center><b><span style=font-size: 13.5pt>To register call (865) 539.7167</span></b></div> <div align=center><b><span style=font-size: 13.5pt>Cost of training is free! ($375 value)&nbsp\;Lunch will be provided!</span></b></div> <div align=center><b><span style=font-size: 13.5pt>Space is limited so call today.</span></b></div> <div style=margin: 0in 0in 0pt align=center><b><span style=font-size: 14pt>Business and Community Services (865) 539.7167</span></b></div>
LOCATION:10915 Hardin Valley Road Lamar Alexander Building\, room 206 Knoxville\, TN
UID:e.9402.265
SEQUENCE:3
DTSTAMP:20260423T123256Z
URL:http://hbaknoxvilletn.memberzone.com/events/details/earth-craft-builder-and-renovation-training-02-28-2011-265
END:VEVENT

END:VCALENDAR
