BEGIN:VCALENDAR
VERSION:2.0
PRODID:-//ChamberMaster//Event Calendar 2.0//EN
METHOD:PUBLISH
X-PUBLISHED-TTL:P3D
REFRESH-INTERVAL:P3D
CALSCALE:GREGORIAN
BEGIN:VEVENT
DTSTART;VALUE=DATE:20120404
DTEND;VALUE=DATE:20120405
TRANSP:TRANSPARENT
X-MICROSOFT-CDO-ALLDAYEVENT:TRUE
SUMMARY:Customer Service / Contracts & Change Orders
DESCRIPTION:Taking the "Cuss" Out of Customer Service\n Customer service is much more than taking care of warranty issues. It is about creating an enjoyable and profitable relationship with the client before\, during\, and after construction.\n  \n Contracts & Change Orders\n A well constructed and crafted construction agreement can mean the difference between success and failure. Understanding different types of agreements\, how they work\, and their essential components will help builders stay out of trouble and lead to satisfied clients. Change orders during construction can lead to additional profits or additional headaches. Managing the client through the selection and change order process does not have to be painful and this seminar will show builders how to do it.\n  \n Instructor: Tom Stephani\n First and foremost\, Tom Stephani is a small volume / custom home builder.  His company builds custom homes & traditional neighborhood infill projects. He also develops commercial & residential land and constructs light commercial projects.\n He is an internationally recognized speaker\, trainer and consultant on issues relating to the residential construction industry.  Tom draws on his 35 plus years of industry experience to give "meat and potatoes" presentations designed to improve the bottom line of small volume and custom builders as well as Remodelers.  He speaks regularly at the International Builders Show\, Custom Builder Symposium\, State and regional conventions\, industry shows\, and HBA's & BIA's.  His presentations have been consistently rated as "Best of the Show" by those in attendance.  Humor and a practical approach based on personal experience are hallmarks of Tom's presentation style.\n  \n This program will have very limited capacity.  Please make your plans to attend today. Snack Sponsor - First American Home Warranty
X-ALT-DESC;FMTTYPE=text/html:<strong><span style=font-size: 12pt><span style=font-family: arial\, sans-serif>Taking the &ldquo\;Cuss&rdquo\; Out of Customer Service</span></span></strong><br> <span style=font-size: 10.5pt><span style=color: #444444><span style=font-family: arial\, sans-serif>Customer service is much more than taking care of warranty issues. It is about creating an enjoyable and profitable relationship with the client before\, during\, and after construction.</span></span></span><br> &nbsp\;<br> <strong><span style=font-size: 12pt><span style=font-family: arial\, sans-serif>Contracts &amp\; Change Orders</span></span></strong><br> <span style=font-size: 10.5pt><span style=color: #444444><span style=font-family: arial\, sans-serif>A well constructed and crafted construction agreement can mean the difference between success and failure. Understanding different types of agreements\, how they work\, and their essential components will help builders stay out of trouble and lead to satisfied clients. Change orders during construction can lead to additional profits or additional headaches. Managing the client through the selection and change order process does not have to be painful and this seminar will show builders how to do it.</span></span></span><br> &nbsp\;<br> <strong><span style=font-size: 12pt><span style=color: #222222><span style=font-family: arial\, sans-serif>Instructor: Tom Stephani</span></span></span></strong><br> <span style=font-size: 10.5pt><span style=color: #444444><span style=font-family: arial\, sans-serif>First and foremost\, Tom Stephani is a small volume / custom home builder.&nbsp\; His company builds custom homes &amp\; traditional neighborhood infill projects. He&nbsp\;also develops commercial &amp\; residential land and constructs light commercial projects.</span></span></span><br> <span style=font-size: 10.5pt><span style=color: #444444><span style=font-family: arial\, sans-serif>He is an internationally recognized speaker\, trainer and consultant on issues relating to the residential construction industry.&nbsp\; Tom draws on his 35 plus years of industry experience to give &ldquo\;meat and potatoes&rdquo\; presentations designed to improve the bottom line of small volume and custom builders as well as Remodelers.&nbsp\; He speaks regularly at the International Builders Show\, Custom Builder Symposium\, State and regional conventions\, industry shows\, and HBA&rsquo\;s &amp\; BIA&rsquo\;s.&nbsp\; His presentations have been consistently rated as &ldquo\;Best of the Show&rdquo\; by those in attendance.&nbsp\; Humor and a practical approach based on personal experience are hallmarks of Tom&rsquo\;s presentation style.</span></span></span><br> &nbsp\;<br> <strong><span style=color: #333333><span style=font-family: arial\, sans-serif><span style=font-size: medium>This program will have very limited capacity.&nbsp\; Please make your plans to attend today. </span></span></span><span style=color: #ff0000><span style=font-family: arial\, sans-serif><span style=font-size: medium>Snack Sponsor - First American Home Warranty</span></span></span></strong><br>
LOCATION:221 Clark Street\, NW Knoxville\, TN
UID:e.9402.395
SEQUENCE:3
DTSTAMP:20260422T055314Z
URL:http://hbaknoxvilletn.memberzone.com/events/details/customer-service-contracts-change-orders-04-04-2012-395
END:VEVENT

END:VCALENDAR
