BEGIN:VCALENDAR
VERSION:2.0
PRODID:-//ChamberMaster//Event Calendar 2.0//EN
METHOD:PUBLISH
X-PUBLISHED-TTL:P3D
REFRESH-INTERVAL:P3D
CALSCALE:GREGORIAN
BEGIN:VEVENT
DTSTART;VALUE=DATE:20130510
DTEND;VALUE=DATE:20130511
TRANSP:TRANSPARENT
X-MICROSOFT-CDO-ALLDAYEVENT:TRUE
SUMMARY:Complimentary Lunch at Lowe's West Knoxville\, Friday May 10
DESCRIPTION:Lowe's of WEST KNOXVILLE would like to invite you to their Pro Customer Appreciation event Wednesday\, May 8   Friday\, May 10th. On Friday\, May 10 there will be a complimentary lunch from 11:00 AM   2:00 PM at their store\, located at 210 N. Peters Road\, Knoxville 37923. The HBAGK Membership Committee will be on-site Friday to discuss membership and issues facing our industry. Come by for lunch with Lowe's Pro Services representatives to discuss your business needs.\n \n Limited Time Offer! Valid until 12/7/13\n Earn a 2% discount on purchases made with your Lowe's Accounts Receivable when you confirm your Home Builders Association membership on LowesForPros.com. Plus\, get free delivery on purchases of $500 or more now through 12/7/13.\n For online orders use one of these promo codes when you checkout on Lowes.com to receive free shipping on purchases over $500. Promo codes vary by location and address type:\n \n           For standard\, U.S. addresses\, use promo code NAHBDEL\n           For P.O. Box addresses\, use promo code NAHBDELPO\n \n For in store orders\, visit the ProServices Desk and identify yourself as a Home Builders Association member and mention that you'd like to receive the free shipping on orders of $500 or more.  Here's what you need to receive this great benefit from Lowe's and NAHB:\n \n 1.    If you don't have an active Lowe's Accounts Receivable credit account with Lowe's download our application form and fax it to 1-877-270-5888. Be sure to indicate your affiliate company on the completed application.\n 2.    A current local or national NAHB membership. Not a member? Visit www.hbaknoxville.com to join.\n 3.    A valid email address and phone number.
X-ALT-DESC;FMTTYPE=text/html:<br> <strong><span style=color:#3b3b3b\;><span style=font-family:arial\,sans-serif\;>Lowe&rsquo\;s of WEST KNOXVILLE</span></span></strong><span style=color:#3b3b3b\;><span style=font-family:arial\,sans-serif\;> would like to invite you to their Pro Customer Appreciation event Wednesday\, May 8 &ndash\; Friday\, May 10<sup>th</sup>. On Friday\, May 10 there will be a complimentary lunch from 11:00 AM &ndash\; 2:00 PM at their store\, located at 210 N. Peters Road\, Knoxville 37923. </span></span><span style=color:#3b3b3b\;><span style=font-family:arial\,sans-serif\;>The HBAGK Membership Committee will be on-site Friday to discuss membership and issues facing our industry. Come by for lunch with Lowe&rsquo\;s Pro Services representatives to discuss your business needs.</span></span><br> <br> <strong><span style=color:#3b3b3b\;><span style=font-family:arial\,sans-serif\;>Limited Time Offer! Valid until 12/7/13</span></span></strong><br> <span style=color:#3b3b3b\;><span style=font-family:arial\,sans-serif\;>Earn a 2% discount on purchases made with your Lowe&rsquo\;s Accounts Receivable when you confirm your Home Builders Association membership on LowesForPros.com. Plus\, get free delivery on purchases of $500 or more now through 12/7/13.</span></span><br> <span style=color:#3b3b3b\;><span style=font-family:arial\,sans-serif\;>For online orders use one of these promo codes when you checkout on Lowes.com to receive free shipping on purchases over $500. Promo codes vary by location and address type:</span></span><br> <br> <span style=color:#3b3b3b\;><span style=font-family:symbol\;><span style=font-size:10.0pt\;>&middot\;&nbsp\;&nbsp\;&nbsp\;&nbsp\;&nbsp\;&nbsp\;&nbsp\;&nbsp\; </span></span></span><span style=color:#3b3b3b\;><span style=font-family:arial\,sans-serif\;>For standard\, U.S. addresses\, use promo code&nbsp\;<strong>NAHBDEL</strong></span></span><br> <span style=color:#3b3b3b\;><span style=font-family:symbol\;><span style=font-size:10.0pt\;>&middot\;&nbsp\;&nbsp\;&nbsp\;&nbsp\;&nbsp\;&nbsp\;&nbsp\;&nbsp\; </span></span></span><span style=color:#3b3b3b\;><span style=font-family:arial\,sans-serif\;>For P.O. Box addresses\, use promo code&nbsp\;<strong>NAHBDELPO</strong></span></span><br> <br> <strong><span style=color:#3b3b3b\;><span style=font-family:arial\,sans-serif\;>For in store orders\, visit the ProServices Desk and identify yourself as a Home Builders Association member and mention that you&rsquo\;d like to receive the free shipping on orders of $500 or more.</span></span></strong><span style=color:#3b3b3b\;><span style=font-family:arial\,sans-serif\;>&nbsp\; <strong>Here&rsquo\;s what you need to receive this great benefit from Lowe&rsquo\;s and NAHB:</strong></span></span><br> <br> <span style=color:#3b3b3b\;><span style=font-family:arial\,sans-serif\;>1.&nbsp\;&nbsp\;&nbsp\; </span></span><strong><span style=color:#3b3b3b\;><span style=font-family:arial\,sans-serif\;>If you don&#39\;t have an active Lowe&#39\;s Accounts Receivable credit account</span></span></strong><span style=color:#3b3b3b\;><span style=font-family:arial\,sans-serif\;>&nbsp\;with Lowe&#39\;s download our <a href=http://www.lowesforpros.com/sites/default/files/LAR-Application-FINAL.pdf><strong><span style=color:#00386e\;>application form</span></strong></a></span>&nbsp\;and fax it to 1-877-270-5888.&nbsp\;<u>Be sure to indicate your affiliate company on the completed application.</u></span><br> <span style=color:#3b3b3b\;><span style=font-family:arial\,sans-serif\;>2.&nbsp\;&nbsp\;&nbsp\; </span></span><strong><span style=color:#3b3b3b\;><span style=font-family:arial\,sans-serif\;>A current local or national NAHB membership. Not a member? Visit <a href=http://www.hbaknoxville.com/>www.hbaknoxville.com</a> to join.</span></span></strong><br> 3. &nbsp\; &nbsp\;<strong><span style=color:#3b3b3b\;><span style=font-family:arial\,sans-serif\;>A valid email address and phone number.</span></span></strong><br> <br> <br> <br>
LOCATION:210 N. Peters Road Knoxville\, TN
UID:e.9402.512
SEQUENCE:3
DTSTAMP:20260420T231022Z
URL:http://hbaknoxvilletn.memberzone.com/events/details/complimentary-lunch-at-lowe-s-west-knoxville-friday-may-10-05-10-2013-512
END:VEVENT

END:VCALENDAR
