BEGIN:VCALENDAR
VERSION:2.0
PRODID:-//ChamberMaster//Event Calendar 2.0//EN
METHOD:PUBLISH
X-PUBLISHED-TTL:P3D
REFRESH-INTERVAL:P3D
CALSCALE:GREGORIAN
BEGIN:VEVENT
DTSTART;VALUE=DATE:20110428
DTEND;VALUE=DATE:20110429
TRANSP:TRANSPARENT
X-MICROSOFT-CDO-ALLDAYEVENT:TRUE
SUMMARY:City Council - Workshop on Ridge Top Protection Plan
DESCRIPTION:Dear Members\,  Thanks to your time and hard work the Knox County Commission voted down the Hillside and Ridgetop Plan from MPC by a close vote of 6-5. It was your calls\, emails\, and time at County Commission meetings that made this possible. Thank you for all of your efforts.\n \n We have one more hurdle to complete. This Thursday April 28th at 5:00 pm is the first workshop in City Council for the Hillside and Ridgetop Plan from MPC. Even though Knox County has sent this back to MPC to start the process over to create a more reasonable plan\, the City of Knoxville can implement the old plan on its own. This would be harmful to the real estate and construction industry in Knox County.\n \n We need you to email and call your City Council member and ask them to suspend the workshop and vote down the Hillside and Ridgetop Plan from MPC. The City and County must use the same Hillside and Ridgetop Plan. To do otherwise would create confusion in the real estate market place at the worst possible time.\n \n Please email and call your City Council member and let them know how important this is. Ask them to suspend the workshop and vote down the Hillside and Ridgetop Plan from MPC so a new and better plan can be created.\n \n Mayor Daniel T. Brown - Sixth District\n 2318 Dillon Street\n Knoxville\, TN 37915\n Home: 865-637-7553\n mayor@cityofknoxville.org\n \n Vice Mayor Joe Bailey - at large\n 424 Hillvale Turn\, West\n Knoxville\, TN 37919\n 865-637-4477\n jdbailey@cityofknoxville.org\n \n Chris Woodhull - at large\n 223 Deadrick Avenue\n Knoxville\, TN 37921\n 865-661-4131\n chriswoodhull@bellsouth.net\n \n Marilyn Roddy - at large\n 920 Iskagna Drive Knoxville\, TN 37919\n 865-637-0333\n mroddy@cityofknoxville.org\n \n Nick Pavlis - First District\n 3815 Admiralty Lane\n Knoxville\, TN 37920\n Home: 865-579-2055\n npavlis@comcast.net\n \n Duane Grieve - Second District\n 3640 Iskagna Drive\n Knoxville\, TN 37919\n Home: 865-522-4393\n dgrieve@cityofknoxville.org\n \n Brenda Palmer - Third District\n 7816 Ellisville Lane\n Knoxville\, TN 37909\n Home: 865-951-1546\n bpalmer@cityofknoxville.org\n \n Nick Della Volpe - Fourth District\n 5216 Crestwood Drive\n Knoxville\, TN 37914\n Home: 865-525-2880\n ndellavolpe@cityofknoxville.org\n \n Charles Thomas - Fifth District\n 386 Hiawassee Ave.\n Knoxville\, TN 37917\n 865-687-6090\n thomas.law@juno.com
X-ALT-DESC;FMTTYPE=text/html:<p><span style=font-size: 9.5pt\; line-height: 115%>Dear Members\, </span></p> <div style=margin: 0in 0in 10pt><span style=font-size: 9.5pt\; line-height: 115%>Thanks to your time and hard work the Knox County Commission voted down the Hillside and Ridgetop Plan from MPC by a close vote of 6-5. It was your calls\, emails\, and time at County Commission meetings that made this possible. Thank you for all of your efforts.<br /> <br /> We have one more hurdle to complete. <strong>This Thursday April 28th at 5:00 pm is the first workshop in City Council for the Hillside and Ridgetop Plan from MPC</strong>. Even though Knox County has sent this back to MPC to start the process over to create a more reasonable plan\, the City of Knoxville can implement the old plan on its own. This would be harmful to the real estate and construction industry in Knox County.<br /> <br /> We need you to email and call your City Council member and ask them to suspend the workshop and vote down the Hillside and Ridgetop Plan from MPC. The City and County must use the same Hillside and Ridgetop Plan. To do otherwise would create confusion in the real estate market place at the worst possible time.<br /> <br /> Please email and call your City Council member and let them know how important this is. Ask them to suspend the workshop and vote down the Hillside and Ridgetop Plan from MPC so a new and better plan can be created.<br /> <br /> Mayor Daniel T. Brown - Sixth District<br /> 2318 Dillon Street<br /> Knoxville\, TN 37915<br /> Home: 865-637-7553<br /> mayor@cityofknoxville.org<br /> <br /> Vice Mayor Joe Bailey - at large<br /> 424 Hillvale Turn\, West<br /> Knoxville\, TN 37919<br /> 865-637-4477<br /> jdbailey@cityofknoxville.org<br /> <br /> Chris Woodhull - at large<br /> 223 Deadrick Avenue<br /> Knoxville\, TN 37921<br /> 865-661-4131<br /> chriswoodhull@bellsouth.net<br /> <br /> Marilyn Roddy - at large<br /> 920 Iskagna Drive</span> <span style=font-size: 9.5pt\; line-height: 115%>Knoxville\, TN 37919<br /> 865-637-0333<br /> mroddy@cityofknoxville.org<br /> <br /> Nick Pavlis - First District<br /> 3815 Admiralty Lane<br /> Knoxville\, TN 37920<br /> Home: 865-579-2055<br /> npavlis@comcast.net<br /> <br /> Duane Grieve - Second District<br /> 3640 Iskagna Drive<br /> Knoxville\, TN 37919<br /> Home: 865-522-4393<br /> dgrieve@cityofknoxville.org<br /> <br /> Brenda Palmer - Third District<br /> 7816 Ellisville Lane<br /> Knoxville\, TN 37909<br /> Home: 865-951-1546<br /> bpalmer@cityofknoxville.org<br /> <br /> Nick Della Volpe - Fourth District<br /> 5216 Crestwood Drive<br /> Knoxville\, TN 37914<br /> Home: 865-525-2880<br /> ndellavolpe@cityofknoxville.org<br /> <br /> Charles Thomas - Fifth District<br /> 386 Hiawassee Ave.<br /> Knoxville\, TN 37917<br /> 865-687-6090<br /> thomas.law@juno.com</span></div>
LOCATION:400 Main St. Main Assembly Room Knoxville\, TN
UID:e.9402.289
SEQUENCE:3
DTSTAMP:20260423T064536Z
URL:http://hbaknoxvilletn.memberzone.com/events/details/city-council-workshop-on-ridge-top-protection-plan-04-28-2011-289
END:VEVENT

END:VCALENDAR
