BEGIN:VCALENDAR
VERSION:2.0
PRODID:-//ChamberMaster//Event Calendar 2.0//EN
METHOD:PUBLISH
X-PUBLISHED-TTL:P3D
REFRESH-INTERVAL:P3D
CALSCALE:GREGORIAN
BEGIN:VEVENT
DTSTART;VALUE=DATE:20110517
DTEND;VALUE=DATE:20110518
TRANSP:TRANSPARENT
X-MICROSOFT-CDO-ALLDAYEVENT:TRUE
SUMMARY:City Council - VOTE on Ridge Top Protection Plan
DESCRIPTION:Attention Association Members: The vote for the Hillside and Ridgetop Plan from MPC in the Knoxville City Council is set for 7:00 pm Tuesday May 17th in the Main Assembly Room of the City County Building. We need your help.   We have won half the battle with our fine efforts in getting Knox County Commission to vote down this plan. We need your help again to call and email the Knoxville City Council members and ask them to vote down the plan so a new process can be started. It is very important to the real estate construction industry that both the City and County be on the same page. The last thing we need in this current market is any confusion.   You need to be aware of two newspaper articles that came out Monday of this week that are important. It has been alleged in the Halls Shopper article by Betty Bean that a person or persons who may be from our industry set a fire at Knox County Commissioner Tony Norman's home. This will unfortunately increase the turnout and phone calls of the supporters of the Hillside and Ridgetop plan. These allegations were refuted and contradicted in the Hayes Hickman article in the Knoxville News Sentinel. However\, the supporters of the plan already emailed their group the Betty Bean article.   Below is the current projected vote count in the City Council vote for the Hillside and Ridgetop Plan from MPC. Please start first with the Council Members leaning against the plan. Then call and email the ones against the plan. Then those leaning for the plan. And finally those for the plan. We need five votes against the plan to win.     Mayor Daniel T. Brown - Sixth District UNDECIDED LEANING FOR PLAN Home: 865-637-7553 mayor@cityofknoxville.org   Vice Mayor Joe Bailey - at large AGAINST PLAN 865-637-4477 jdbailey@cityofknoxville.org   Chris Woodhull - at large FOR PLAN 865-661-4131 chriswoodhull@bellsouth.net   Marilyn Roddy - at large UNDECIDED LEANING FOR PLAN 865-637-0333 mroddy@cityofknoxville.org   Nick Pavlis - First District AGAINST PLAN  Home: 865-579-2055 npavlis@comcast.net   Duane Grieve - Second District UNDECIDED LEANING FOR PLAN Home: 865-522-4393 dgrieve@cityofknoxville.org   Brenda Palmer - Third District UNDECIDED LEANING AGAINST PLAN Home: 865-951-1546 bpalmer@cityofknoxville.org   Nick Della Volpe - Fourth District AGAINST PLAN Home: 865-525-2880 ndellavolpe@cityofknoxville.org   Charles Thomas - Fifth District FOR PLAN 865-687-6090 thomas.law@juno.com
X-ALT-DESC;FMTTYPE=text/html:<p>Attention Association Members:</p> <div style=margin: 0in 0in 0pt><b>The vote for the Hillside and Ridgetop Plan from MPC in the Knoxville City Council is set for 7:00 pm Tuesday May 17<sup>th</sup> in the Main Assembly Room of the City County Building</b>. We need your help.</div> <div style=margin: 0in 0in 0pt>&nbsp\;</div> <div style=margin: 0in 0in 0pt>We have won <b>half the battle</b> with our fine efforts in getting Knox County Commission to <b>vote down this plan</b>. We need your help again to call and email the <b>Knoxville</b><b> City</b><b> Council members </b>and ask them to <b>vote down the plan</b> so a <b>new process</b> can be started. <b>It is very important to the real estate construction industry that both the City and County be on the same page</b>. The last thing we need in this current market is any confusion.</div> <div style=margin: 0in 0in 0pt>&nbsp\;</div> <div style=margin: 0in 0in 0pt>You need to be aware of two newspaper articles that came out Monday of this week that are important. <a href=http://www.shoppernewsnow.com/columnTemplates/bean.aspx>It has been alleged in the Halls Shopper article by Betty Bean that a person or persons who may be from our industry set a fire at Knox County Commissioner Tony Norman&rsquo\;s home</a>. This will unfortunately increase the turnout and phone calls of the supporters of the Hillside and Ridgetop plan. <a href=http://www.knoxnews.com/news/2011/may/09/051011norman/>These allegations were refuted and contradicted in the Hayes Hickman article in the Knoxville News Sentinel.</a> However\, the supporters of the plan already emailed their group the Betty Bean article.</div> <div style=margin: 0in 0in 0pt>&nbsp\;</div> <div style=margin: 0in 0in 0pt>Below is the current projected vote count in the City Council vote for the Hillside and Ridgetop Plan from MPC. Please <b>start first</b> with the Council Members leaning against the plan. Then call and email the ones against the plan. Then those leaning for the plan. And finally those for the plan. <b><span style=font-size: 14pt>We need five votes against the plan to win</span></b>.</div> <div style=margin: 0in 0in 0pt>&nbsp\;</div> <div style=margin: 0in 0in 0pt>&nbsp\;</div> <div style=margin: 0in 0in 0pt>Mayor Daniel T. Brown - Sixth District <b>UNDECIDED LEANING FOR PLAN</b></div> <div style=margin: 0in 0in 0pt>Home: 865-637-7553</div> <div style=margin: 0in 0in 0pt><a href=https://builderfusion.hbaknoxville.com/bf/FCKeditor/editor/dialog/mayor@cityofknoxville.org>mayor@cityofknoxville.org</a></div> <div style=margin: 0in 0in 0pt>&nbsp\;</div> <div style=margin: 0in 0in 0pt>Vice Mayor Joe Bailey - at large <b>AGAINST PLAN</b></div> <div style=margin: 0in 0in 0pt>865-637-4477</div> <div style=margin: 0in 0in 0pt><a href=https://builderfusion.hbaknoxville.com/bf/FCKeditor/editor/dialog/jdbailey@cityofknoxville.org>jdbailey@cityofknoxville.org</a></div> <div style=margin: 0in 0in 0pt>&nbsp\;</div> <div style=margin: 0in 0in 0pt>Chris Woodhull - at large <b>FOR PLAN</b></div> <div style=margin: 0in 0in 0pt>865-661-4131</div> <div style=margin: 0in 0in 0pt><a href=https://builderfusion.hbaknoxville.com/bf/FCKeditor/editor/dialog/chriswoodhull@bellsouth.net>chriswoodhull@bellsouth.net</a></div> <div style=margin: 0in 0in 0pt>&nbsp\;</div> <div style=margin: 0in 0in 0pt>Marilyn Roddy - at large <b>UNDECIDED LEANING FOR PLAN</b></div> <div style=margin: 0in 0in 0pt>865-637-0333</div> <div style=margin: 0in 0in 0pt><a href=https://builderfusion.hbaknoxville.com/bf/FCKeditor/editor/dialog/mroddy@cityofknoxville.org>mroddy@cityofknoxville.org</a></div> <div style=margin: 0in 0in 0pt>&nbsp\;</div> <div style=margin: 0in 0in 0pt>Nick Pavlis - First District <b>AGAINST PLAN </b></div> <div style=margin: 0in 0in 0pt>Home: 865-579-2055</div> <div style=margin: 0in 0in 0pt><a href=mailto:npavlis@comcast.net>npavlis@comcast.net</a></div> <div style=margin: 0in 0in 0pt>&nbsp\;</div> <div style=margin: 0in 0in 0pt>Duane Grieve - Second District <b>UNDECIDED LEANING FOR PLAN</b></div> <div style=margin: 0in 0in 0pt>Home: 865-522-4393</div> <div style=margin: 0in 0in 0pt><a href=https://builderfusion.hbaknoxville.com/bf/FCKeditor/editor/dialog/dgrieve@cityofknoxville.org>dgrieve@cityofknoxville.org</a></div> <div style=margin: 0in 0in 0pt>&nbsp\;</div> <div style=margin: 0in 0in 0pt>Brenda Palmer - Third District <b>UNDECIDED LEANING AGAINST PLAN</b></div> <div style=margin: 0in 0in 0pt>Home: 865-951-1546</div> <div style=margin: 0in 0in 0pt><a href=https://builderfusion.hbaknoxville.com/bf/FCKeditor/editor/dialog/bpalmer@cityofknoxville.org>bpalmer@cityofknoxville.org</a></div> <div style=margin: 0in 0in 0pt>&nbsp\;</div> <div style=margin: 0in 0in 0pt>Nick Della Volpe - Fourth District <b>AGAINST PLAN</b></div> <div style=margin: 0in 0in 0pt>Home: 865-525-2880</div> <div style=margin: 0in 0in 0pt><a href=https://builderfusion.hbaknoxville.com/bf/FCKeditor/editor/dialog/ndellavolpe@cityofknoxville.org>ndellavolpe@cityofknoxville.org</a></div> <div style=margin: 0in 0in 0pt>&nbsp\;</div> <div style=margin: 0in 0in 0pt>Charles Thomas - Fifth District <b>FOR PLAN</b></div> <div style=margin: 0in 0in 0pt>865-687-6090</div> <div style=margin: 0in 0in 0pt><a href=https://builderfusion.hbaknoxville.com/bf/FCKeditor/editor/dialog/thomas.law@juno.com>thomas.law@juno.com</a></div>
LOCATION:400 Main St. Main Assembly Room Knoxville\, TN
UID:e.9402.297
SEQUENCE:3
DTSTAMP:20260423T063745Z
URL:http://hbaknoxvilletn.memberzone.com/events/details/city-council-vote-on-ridge-top-protection-plan-05-17-2011-297
END:VEVENT

END:VCALENDAR
