BEGIN:VCALENDAR
VERSION:2.0
PRODID:-//ChamberMaster//Event Calendar 2.0//EN
METHOD:PUBLISH
X-PUBLISHED-TTL:P3D
REFRESH-INTERVAL:P3D
CALSCALE:GREGORIAN
BEGIN:VEVENT
DTSTART;VALUE=DATE:20130926
DTEND;VALUE=DATE:20130927
TRANSP:TRANSPARENT
X-MICROSOFT-CDO-ALLDAYEVENT:TRUE
SUMMARY:Captain's Meeting - Membership Drive
DESCRIPTION:Team Captains - please mark your calendars for our Kickoff meeting and team draft for the fall Membership Drive. (If you are unable to attend PLEASE send someone in your place!)\n    \n    We will meet at the Home Builders office at 10 AM\, September 26 to select team members and finalize our strategy for the drive. You can prepare by working on your contact lists for potential members\, and also thinking of why you belong as a member and why everyone else in our industry should be too. A list of testimonials can be incorporated as part of the membership drive.\n    \n    A list of potential members will be provided that includes: past members\, 2013 permit records\, local contractors with TN License Board\, and more.\n    \n    RSVP\n    \n    (You can retrieve your login name & password by clicking the registration link in this message then following the prompt using your email address to have the information sent to you)
X-ALT-DESC;FMTTYPE=text/html:<p>Team Captains - please mark your calendars for our Kickoff meeting and team draft for the fall Membership Drive. (If you are unable to attend PLEASE send someone in your place!)<br>    <br>    We will meet at the Home Builders office at 10 AM\, September 26 to select team members and finalize our strategy for the drive. You can prepare by working on your contact lists for potential members\, and also thinking of why you belong as a member and why everyone else in our industry should be too. A list of testimonials can be incorporated as part of the membership drive.<br>    <br>    A list of potential members will be provided that includes: past members\, 2013 permit records\, local contractors with TN License Board\, and more.<br>    <br>    <strong>RSVP</strong><br>    <br>    <span style=background-color: #ffff00><strong>(You can retrieve your login name &amp\; password by clicking the registration link in this message then following the prompt using your email address to have the information sent to you)</strong></span><br>    &nbsp\;</p>
LOCATION:221 Clark Street\, NW Knoxville\, TN
UID:e.9402.555
SEQUENCE:3
DTSTAMP:20260420T142925Z
URL:http://hbaknoxvilletn.memberzone.com/events/details/captain-s-meeting-membership-drive-09-26-2013-555
END:VEVENT

END:VCALENDAR
