BEGIN:VCALENDAR
VERSION:2.0
PRODID:-//ChamberMaster//Event Calendar 2.0//EN
METHOD:PUBLISH
X-PUBLISHED-TTL:P3D
REFRESH-INTERVAL:P3D
CALSCALE:GREGORIAN
BEGIN:VEVENT
DTSTART:20110802T040000Z
DTEND:20110804T040000Z
X-MICROSOFT-CDO-ALLDAYEVENT:FALSE
SUMMARY:Candidate Interviews for City Elections
DESCRIPTION:This year there will be two elections in the City of Knoxville: a primary election on September 27 and a regular (also known as a general) election on November 8.  There will be six elective offices on the ballot.     Mayor    Municipal Judge (unopposed)    City Council At-large\, Seat A    City Council At-large\, Seat B    City Council At-large\, Seat C    City Council\, District Five (unopposed)  The HBAGK Governmental Affairs Committee will conduct candidate interviews this Tuesday and Thursday to allow our members and candidates the opportunity to discuss issues that affect our industry. Topics will include the MPC Hillside & Ridgetop plan\, city development\, and codes. Members are encouraged to submit questions for candidates or attend in person if possible. Business dress required. Please RSVP if you plan to attend and arrive by 8:45 AM on days of the interviews. We are also hosting a Meet the Candidates membership meeting next week at 4:30 pm\, Tuesday\, August 9 at Calhoun's on the River\, admission is only $10.
X-ALT-DESC;FMTTYPE=text/html:<p>This year there will be two elections in the City of Knoxville: a primary election on September 27 and a regular (also known as a general) election on November 8.&nbsp\; There will be six elective offices on the ballot.</p> <ul>    <li>Mayor</li>    <li>Municipal Judge (unopposed)</li>    <li>City Council At-large\, Seat A</li>    <li>City Council At-large\, Seat B</li>    <li>City Council At-large\, Seat C</li>    <li>City Council\, District Five (unopposed)</li> </ul> <p>The HBAGK Governmental Affairs Committee will conduct candidate interviews this Tuesday and Thursday to allow our members and candidates the opportunity to discuss issues that affect our industry. Topics will include the MPC Hillside &amp\; Ridgetop plan\, city development\, and codes. Members are encouraged to&nbsp\;submit questions&nbsp\;for&nbsp\;candidates&nbsp\;or attend in person if possible. <u>Business dress required</u>. Please&nbsp\;RSVP if you plan to attend and arrive by 8:45 AM on days of the interviews.</p> <p><em>We are also hosting a Meet the Candidates membership meeting next week at 4:30 pm\, Tuesday\, August 9 at Calhoun&#39\;s on the River\, admission is only $10.</em></p>
LOCATION:221 Clark Street\, NW Knoxville\, TN
UID:e.9402.323
SEQUENCE:3
DTSTAMP:20260422T225511Z
URL:http://hbaknoxvilletn.memberzone.com/events/details/candidate-interviews-for-city-elections-08-02-2011-323
END:VEVENT

END:VCALENDAR
