BEGIN:VCALENDAR
VERSION:2.0
PRODID:-//ChamberMaster//Event Calendar 2.0//EN
METHOD:PUBLISH
X-PUBLISHED-TTL:P3D
REFRESH-INTERVAL:P3D
CALSCALE:GREGORIAN
BEGIN:VEVENT
DTSTART;VALUE=DATE:20120820
DTEND;VALUE=DATE:20120821
TRANSP:TRANSPARENT
X-MICROSOFT-CDO-ALLDAYEVENT:TRUE
SUMMARY:CANCELLED - Budget & Finance Committee
DESCRIPTION:CANCELLED: The HBAGK Budget & Finance Committee meeting scheduled for Monday\, 8/20/12 at 12:00 PM has been CANCELLED due to scheduling conflicts. We apologize for the inconvenience\; the financial report will be sent with the Board meeting reminder tomorrow.\n    \n    (Hint\, you can retrieve your login name & password by clicking the registration link in this message then following the prompt using your email address to have the information sent to you)
X-ALT-DESC;FMTTYPE=text/html:<p>CANCELLED: The HBAGK Budget &amp\; Finance Committee meeting scheduled for Monday\, 8/20/12 at 12:00&nbsp\;PM has been CANCELLED due to scheduling conflicts. We apologize for the inconvenience\; the financial report will be sent with the Board meeting reminder tomorrow.<br>    <br>    <u><strong><span style=background-color: #ffff00><strong>(Hint\, you can retrieve your login name &amp\; password by clicking the registration link in this message then following the prompt using your email address to have the information sent to you)</strong></span></strong></u><br>    &nbsp\;</p>
LOCATION:221 Clark Street\, NW Knoxville\, TN
UID:e.9402.440
SEQUENCE:3
DTSTAMP:20260421T193412Z
URL:http://hbaknoxvilletn.memberzone.com/events/details/cancelled-budget-finance-committee-08-20-2012-440
END:VEVENT

END:VCALENDAR
