BEGIN:VCALENDAR
VERSION:2.0
PRODID:-//ChamberMaster//Event Calendar 2.0//EN
METHOD:PUBLISH
X-PUBLISHED-TTL:P3D
REFRESH-INTERVAL:P3D
CALSCALE:GREGORIAN
BEGIN:VEVENT
DTSTART;VALUE=DATE:20131121
DTEND;VALUE=DATE:20131122
TRANSP:TRANSPARENT
X-MICROSOFT-CDO-ALLDAYEVENT:TRUE
SUMMARY:Business After Hours
DESCRIPTION:Business After Hours with the Home Builders Association! It's time to have fun again at our fifth BAH of the year and the first one in 3 months. No program\, no agenda - just relaxing with members in a comfortable setting. All we ask is that you RSVP so we can let our hosts know how many guests to prepare for. For those who may be unfamiliar with the BAH concept we basically gather at a designated location after work and everyone pays as they go - but you are welcome to treat another member to a snack or drink! This is a great opportunity to invite potential members or catch up with current members of the association. We hope to see you there!\n \n Doc's All American Grille is the premiere family entertainment venue in Knoxville. Doc's firmly believes in Southern hospitality and would love for you to come join us for festivities. You are guaranteed to have a great time as soon as you walk in the door\, whether it be from the awesome service\, the 52 flat screens\, fantastic food and unique drinks\, or the sports alley where we offer games and fun for the whole family. Doc's also prides itself on having some of the best entertainment in Knoxville. We have awesome bands playing every Friday and Saturday night for your entertainment. We offer free valet parking\, which is just another way for you to have fun with no worries. Come out to Doc's All American Grille where you can relax\, unwind and have a good time!\n \n Upcoming Events/Meetings:\n December 5 - Holiday Celebration at the Foundry\n January 9 - Annual Meeting\, I & A Banquet at the Square Room\n January 24-26 - 2014 Home Show at KCC downtown
X-ALT-DESC;FMTTYPE=text/html:<br> <span style=font-size:14px\;><span style=color: #000000\; font-family: 'Times New Roman'\;>Business After Hours with the Home Builders Association!&nbsp\;It&#39\;s time to have fun again at our fifth BAH of the year and the first one in 3 months. No program\, no agenda - just relaxing with members in a comfortable setting. All we ask is that you&nbsp\;</span><u style=color: #000000\; font-family: 'Times New Roman'\; font-size: medium\;>RSVP so we can let our hosts know how many guests to prepare for</u><span style=color: #000000\; font-family: 'Times New Roman'\;>. For those who may be unfamiliar with the BAH concept we basically gather at a designated location after work and everyone pays as they go - but you are welcome to treat another member to a snack or drink!&nbsp\;This is a great opportunity to invite potential members or catch up with current members of the association. We hope to see you there!</span><br style=color: #000000\; font-family: 'Times New Roman'\; font-size: medium\;> <br style=color: #000000\; font-family: 'Times New Roman'\; font-size: medium\;> <span style=color: #000000\; font-family: 'Times New Roman'\;><strong>Doc&rsquo\;s All American Grille</strong>&nbsp\;is the premiere family entertainment venue in Knoxville. Doc&rsquo\;s firmly believes in Southern hospitality and would love for you to come join us for festivities. You are guaranteed to have a great time as soon as you walk in the door\, whether it be from the awesome service\, the 52 flat screens\, fantastic food and unique drinks\, or the sports alley where we offer games and fun for the whole family. Doc&rsquo\;s also prides itself on having some of the best entertainment in Knoxville. We have awesome bands playing every Friday and Saturday night for your entertainment. We offer free valet parking\, which is just another way for you to have fun with no worries. Come out to Doc&rsquo\;s All American Grille where you can relax\, unwind and have a good time!</span><br style=color: #000000\; font-family: 'Times New Roman'\; font-size: medium\;> <br style=color: #000000\; font-family: 'Times New Roman'\; font-size: medium\;> <u style=color: #000000\; font-family: 'Times New Roman'\; font-size: medium\;><strong>Upcoming Events/Meetings:</strong></u><br style=color: #000000\; font-family: 'Times New Roman'\; font-size: medium\;> <span style=color: #000000\; font-family: 'Times New Roman'\;>December 5 - Holiday Celebration at the Foundry</span><br> <span style=color: #000000\; font-family: 'Times New Roman'\;>January 9 - Annual Meeting\, I &amp\; A Banquet at the Square Room<br> January 24-26 - 2014 Home Show at KCC downtown</span></span><br style=color: #000000\; font-family: 'Times New Roman'\; font-size: medium\;> <br> <br> <br> <br>
LOCATION:7355 Kingston Pike Knoxville\, TN
UID:e.9402.570
SEQUENCE:3
DTSTAMP:20260420T073640Z
URL:http://hbaknoxvilletn.memberzone.com/events/details/business-after-hours-11-21-2013-570
END:VEVENT

END:VCALENDAR
