BEGIN:VCALENDAR
VERSION:2.0
PRODID:-//ChamberMaster//Event Calendar 2.0//EN
METHOD:PUBLISH
X-PUBLISHED-TTL:P3D
REFRESH-INTERVAL:P3D
CALSCALE:GREGORIAN
BEGIN:VEVENT
DTSTART;VALUE=DATE:20130620
DTEND;VALUE=DATE:20130621
TRANSP:TRANSPARENT
X-MICROSOFT-CDO-ALLDAYEVENT:TRUE
SUMMARY:Business After Hours
DESCRIPTION:Business After Hours with the Home Builders Association! It's time to have fun again at our third BAH of the year. No program\, no agenda - just relaxing with members in a comfortable setting. All we ask is that you RSVP so we can let our hosts know how many guests to prepare for. For those who may be unfamiliar with the BAH concept we basically gather at a designated location after work and everyone pays as they go. \n \n This is a great opportunity to invite potential members or catch up with current members of the association. We will also have information about the Parade of Homes and upcoming meetings. We hope to see you there!
X-ALT-DESC;FMTTYPE=text/html:<br> Business After Hours with the Home Builders Association!&nbsp\;It&#39\;s time to have fun again at our third BAH of the year. No program\, no agenda - just relaxing with members in a comfortable setting. All we ask is that you <u>RSVP so we can let our hosts know how many guests to prepare for</u>. For those who may be unfamiliar with the BAH concept we basically gather at a designated location after work and everyone pays as they go.&nbsp\;<br> <br> This is a great opportunity to invite potential members or catch up with current members of the association. We will also have information about the Parade of Homes and upcoming meetings. We hope to see you there!<br> <br> <br> <br> <br> <br> <br>
LOCATION:7585 S. Northshore Dr. Knoxville\, TN
UID:e.9402.528
SEQUENCE:3
DTSTAMP:20260420T225201Z
URL:http://hbaknoxvilletn.memberzone.com/events/details/business-after-hours-06-20-2013-528
END:VEVENT

END:VCALENDAR
