BEGIN:VCALENDAR
VERSION:2.0
PRODID:-//ChamberMaster//Event Calendar 2.0//EN
METHOD:PUBLISH
X-PUBLISHED-TTL:P3D
REFRESH-INTERVAL:P3D
CALSCALE:GREGORIAN
BEGIN:VEVENT
DTSTART;VALUE=DATE:20130418
DTEND;VALUE=DATE:20130419
TRANSP:TRANSPARENT
X-MICROSOFT-CDO-ALLDAYEVENT:TRUE
SUMMARY:Business After Hours
DESCRIPTION:Business After Hours with the Home Builders Association\, sponsored by 2008 Associate of the Year\, Richard Swan of Mortgage Investors Group! It's time to have fun again at our second BAH of the year. No program\, no agenda - just relaxing with members in a comfortable setting. All we ask is that you RSVP so we can let our hosts know how many guests to prepare for. For those who may be unfamiliar with the BAH concept we basically gather at a designated location after work and everyone pays as they go. However for this meeting Richard Swan with MIG has graciously agreed to provide snacks and pick up the first drink for the first twenty members who RSVP - how nice is that! We will be at Cazzy's Corner Grill in Northshore Town Center from 5:30 - 7:00 PM.\n \n This is a great opportunity to invite potential members or catch up with current members of the association. We will also have information about our annual golf tournament\, upcoming meetings at the state and national level\, and the Parade of Homes. We hope to see you there!
X-ALT-DESC;FMTTYPE=text/html:<br> Business After Hours with the Home Builders Association\, sponsored by 2008 Associate of the Year\, <a href=mailto:richard.swan@migonline.com?subject=HBAGK%20Cazzy's%20Corner%204%2F18><strong>Richard Swan</strong></a> of Mortgage Investors Group! It&#39\;s time to have fun again at our second BAH of the year. No program\, no agenda - just relaxing with members in a comfortable setting. All we ask is that you RSVP so we can let our hosts know how many guests to prepare for. For those who may be unfamiliar with the BAH concept we basically gather at a designated location after work and everyone pays as they go. However for this meeting Richard Swan with MIG has graciously agreed to provide snacks and pick up the first drink for the first twenty members who RSVP - how nice is that! We will be at Cazzy&#39\;s Corner Grill in Northshore Town Center from 5:30 - 7:00 PM.<br> <br> This is a great opportunity to invite potential members or catch up with current members of the association. We will also have information about our annual golf tournament\, upcoming meetings at the state and national level\, and the Parade of Homes. We hope to see you there!<br> <br> <br> <br> <br>
LOCATION:2099 Thunderhead Road Knoxville\, TN
UID:e.9402.506
SEQUENCE:3
DTSTAMP:20260421T021516Z
URL:http://hbaknoxvilletn.memberzone.com/events/details/business-after-hours-04-18-2013-506
END:VEVENT

END:VCALENDAR
