BEGIN:VCALENDAR
VERSION:2.0
PRODID:-//ChamberMaster//Event Calendar 2.0//EN
METHOD:PUBLISH
X-PUBLISHED-TTL:P3D
REFRESH-INTERVAL:P3D
CALSCALE:GREGORIAN
BEGIN:VEVENT
DTSTART;VALUE=DATE:20140417
DTEND;VALUE=DATE:20140418
TRANSP:TRANSPARENT
X-MICROSOFT-CDO-ALLDAYEVENT:TRUE
SUMMARY:Business After Hours
DESCRIPTION:Business After Hours with the Home Builders Association! It's time to have fun at our first BAH of the year. No program\, no agenda - just relaxing with members in a comfortable setting. All we ask is that you RSVP so we can let our hosts know how many guests to prepare for. For those who may be unfamiliar with the BAH concept we basically gather at a designated location after work and everyone pays as they go - but you are welcome to treat another member to a snack or drink! This is a great opportunity to invite potential members or catch up with current members of the association. We hope to see you there!\n\n Upcoming Events/Meetings:April 17 - Business After HoursMay 1 - Parade of Homes ReceptionMay 2 - Parade of Homes Early Bird entry DEADLINEMay 5 - Cinco de Mayo PARTY\, Outlet DriveMay 21 - Hotdog Cookout at HBA office\, bring a guest to join HBA!\nJune 12 - HBAGK Annual Golf Tournament\, Egwani Farms\nJune 21-15 - HBAT Summer Board\, Myrtle BeachJuly 17 - Meet the Candidates\, Calhoun's on the River         \n The original Calhoun's two-level rustic barn structure (with signature silo) provides an atmosphere filled with relics of the picturesque farmlands of East Tennessee. It is convenient to all of West Knoxville\, as well as Oak Ridge and Maryville\, via the Pellissippi Parkway. In 1983\, the first Calhoun's\, a big barn-like structure\, opened in West Knoxville as a tribute to the agricultural roots and great barbecue traditions of Eastern Tennessee. Within a year of its opening\, the restaurant's signature hickory smoked baby-back ribs won the title of Best Ribs in America at the prestigious National Rib Cook-Off. It was clear a tradition of greatness had been born.
X-ALT-DESC;FMTTYPE=text/html:<br> Business After Hours with the Home Builders Association!&nbsp\;It's time to have fun at our first BAH of the year. No program\, no agenda - just relaxing with members in a comfortable setting. All we ask is that you&nbsp\;RSVP so we can let our hosts know how many guests to prepare for. For those who may be unfamiliar with the BAH concept we basically gather at a designated location after work and everyone pays as they go - but you are welcome to treat another member to a snack or drink!&nbsp\;This is a great opportunity to invite potential members or catch up with current members of the association. We hope to see you there!<br><br> Upcoming Events/Meetings:<p class=MsoNormal style=margin-left: 117pt\;></p><ul><li><span style=line-height: 1.428571429\;>April 17 - Business After Hours</span></li><li><span style=line-height: 1.428571429\;>May 1 - Parade of Homes Reception</span></li><li><span style=line-height: 1.428571429\; font-weight: bold\;>May 2 - Parade of Homes Early Bird entry DEADLINE</span></li><li><span style=line-height: 1.428571429\;>May 5 - Cinco de Mayo PARTY\, Outlet Drive</span></li><li><span style=line-height: 1.428571429\;>May 21 - Hotdog Cookout at HBA office\, bring a guest to join HBA!</span><br></li><li><span style=line-height: 1.428571429\;>June 12 - HBAGK Annual Golf Tournament\, Egwani Farms</span><br></li><li><span style=line-height: 1.428571429\;>June 21-15 - HBAT Summer Board\, Myrtle Beach</span></li><li><span style=line-height: 1.428571429\;>July 17 - Meet the Candidates\, Calhoun's on the River</span></li></ul><!--[if !supportLists]--><o:p></o:p><p></p>  <p class=MsoNormal style=margin-left: 117pt\;><o:p></o:p></p>  <p class=MsoNormal style=margin-left: 117pt\;><o:p></o:p></p>  <p class=MsoNormal style=margin-left: 117pt\;><o:p></o:p></p>  <p class=MsoNormal style=margin-left: 117pt\;><o:p></o:p></p> <br> <p style=line-height: 16.5pt\; background-position: initial initial\; background-repeat: initial initial\;><span style=font-size:10.5pt\; font-family:&quot\;Arial&quot\;\,&quot\;sans-serif&quot\;>The original Calhoun's two-level rustic barn structure (with signature silo) provides an atmosphere filled with relics of the picturesque farmlands of East Tennessee. It is convenient to all of West Knoxville\, as well as Oak Ridge and Maryville\, via the Pellissippi Parkway.&nbsp\;</span><span style=font-family: Arial\, sans-serif\; font-size: 10.5pt\; line-height: 16.5pt\;>In 1983\, the first Calhoun's\, a big barn-like structure\, opened in West Knoxville as a tribute to the agricultural roots and great barbecue traditions of Eastern Tennessee. Within a year of its opening\, the restaurant's signature hickory smoked baby-back ribs won the title of Best Ribs in America at the prestigious National Rib Cook-Off. It was clear a tradition of greatness had been born.</span></p> &lt\;
LOCATION:10020 Kingston Pike Knoxville\, TN
UID:e.9402.597
SEQUENCE:3
DTSTAMP:20260420T004937Z
URL:http://hbaknoxvilletn.memberzone.com/events/details/business-after-hours-04-17-2014-597
END:VEVENT

END:VCALENDAR
