BEGIN:VCALENDAR
VERSION:2.0
PRODID:-//ChamberMaster//Event Calendar 2.0//EN
METHOD:PUBLISH
X-PUBLISHED-TTL:P3D
REFRESH-INTERVAL:P3D
CALSCALE:GREGORIAN
BEGIN:VEVENT
DTSTART;VALUE=DATE:20130321
DTEND;VALUE=DATE:20130322
TRANSP:TRANSPARENT
X-MICROSOFT-CDO-ALLDAYEVENT:TRUE
SUMMARY:Business After Hours
DESCRIPTION:Business After Hours with the HBAGK. It's time to have fun again. No program\, no agenda - just relaxing with members in a comfortable setting. All we ask is that you RSVP so we can let our hosts know how many guests to prepare for. The rest is up to you.
X-ALT-DESC;FMTTYPE=text/html:<br> Business After Hours with the HBAGK. It&#39\;s time to have fun again. No program\, no agenda - just relaxing with members in a comfortable setting. All we ask is that you RSVP so we can let our hosts know how many guests to prepare for. The rest is up to you.<br> <br> <br>
LOCATION:5018 Kingston Pike Knoxville\, TN
UID:e.9402.498
SEQUENCE:3
DTSTAMP:20260421T022850Z
URL:http://hbaknoxvilletn.memberzone.com/events/details/business-after-hours-03-21-2013-498
END:VEVENT

END:VCALENDAR
