BEGIN:VCALENDAR
VERSION:2.0
PRODID:-//ChamberMaster//Event Calendar 2.0//EN
METHOD:PUBLISH
X-PUBLISHED-TTL:P3D
REFRESH-INTERVAL:P3D
CALSCALE:GREGORIAN
BEGIN:VEVENT
DTSTART;VALUE=DATE:20121024
DTEND;VALUE=DATE:20121025
TRANSP:TRANSPARENT
X-MICROSOFT-CDO-ALLDAYEVENT:TRUE
SUMMARY:BUILD-PAC Fundraiser with Special Guest Congressman John Duncan
DESCRIPTION:Dear Members:\n    \n    We are honored to announce that Congressman John J. Duncan has agreed to attend our BUILD-PAC fundraiser at Fox Den!!\n    \n    As your 2012 Tennessee BUILD-PAC Trustee\, I am committed to building and promoting the importance of our local industry agenda at the national level by supporting the National Association of Home Builders (NAHB) Political Action Committee\, BUILD-PAC   or Builders United in Legislative Decisions Political Action Committee.    \n    \n    One of my requirements as a BUILD-PAC Trustee is to hold at least one fundraising event each year to promote and educate my peers on the importance of contributing to BUILD-PAC.  That said\, you all should have received an email invitation to a cocktail reception benefitting NAHB's BUILD-PAC Wednesday\, October 24\, from 5:30-7:30 pm at Fox Den Country Club\, and I am counting on each of you to attend.  \n    \n    Now\, more than any other time in the history of our industry is it vitally important that we financially support pro-housing candidates in Congress\, on both sides of the aisle\, who continue to make our industry issues a priority leading up to the November elections and beyond.  These candidates recognize that 1) homeownership is a fundamental part of our nation's foundation\, and 2) homebuilding is critical to strengthening our nation's economy moving forward.  \n    \n    BUILD-PAC's fundraising goal for the 2011-2012 election cycle is $2.1 million.  To date\, BUILD-PAC has raised $1.9 million.  Achieving this goal is no small feat\, and without the support of members like you\, we could not continue to promote issues such as tax reform\, the mortgage interest deduction\, construction lending\, and housing finance reform at the federal level.  \n    \n    With the elections being right around the corner\, it is more important than ever that we make our voices heard   and reach our election cycle goal   by investing in BUILD-PAC this year.  I\, myself\, am a Gold Key member contributing $1\,000 annually to BUILD-PAC and its efforts.  While economic times are tough\, everyone can afford to give something to support our industry and I am counting on each and every one of you to make that commitment today.  \n    \n    For those of you who have contributed to BUILD-PAC this year\, thank you!  For those of you who have not\, please consider attending the event on October 24th and making our industry's voice stronger not only in Washington\, DC\, but also here in Tennessee.\n    \n    Sincerely\,\n     \n    Ed Zarb\n    2012 BUILD-PAC Trustee
X-ALT-DESC;FMTTYPE=text/html:<div><span style=font-size: medium><span style=font-family: calibri>Dear Members:</span></span><br>    <br>    <span style=font-size: medium><span style=font-family: calibri><strong>We are honored to announce that Congressman John J. Duncan has agreed to attend our BUILD-PAC fundraiser at Fox Den!!</strong><br>    <br>    As your 2012 Tennessee BUILD-PAC Trustee\, I am committed to building and promoting the importance of our local industry agenda at the national level by supporting the National Association of Home Builders (NAHB) Political Action Committee\, BUILD-PAC &ndash\; or Builders United in Legislative Decisions Political Action Committee.&nbsp\; &nbsp\;&nbsp\;</span></span><br>    <br>    <span style=font-size: medium><span style=font-family: calibri>One of my requirements as a BUILD-PAC Trustee is to hold at least one fundraising event each year to promote and educate my peers on the importance of contributing to BUILD-PAC.&nbsp\; That said\, you all should have received an email invitation to a cocktail reception benefitting NAHB&rsquo\;s BUILD-PAC <strong>Wednesday\, October 24\, from 5:30-7:30 pm</strong> at Fox Den Country Club\, and I am counting on each of you to attend.&nbsp\; </span></span><br>    <br>    <span style=font-size: medium><span style=font-family: calibri>Now\, more than any other time in the history of our industry is it vitally important that we financially support pro-housing candidates in Congress\, on both sides of the aisle\, who continue to make our industry issues a priority leading up to the November elections and beyond.&nbsp\; These candidates recognize that 1) homeownership is a fundamental part of our nation&rsquo\;s foundation\, and 2) homebuilding is critical to strengthening our nation&rsquo\;s economy moving forward.&nbsp\; </span></span><br>    <br>    <span style=font-size: medium><span style=font-family: calibri>BUILD-PAC&rsquo\;s fundraising goal for the 2011-2012 election cycle is <strong>$2.1 million</strong>.&nbsp\; To date\, BUILD-PAC has raised $1.9 million.&nbsp\; Achieving this goal is no small feat\, and without the support of members like you\, we could not continue to promote issues such as tax reform\, the mortgage interest deduction\, construction lending\, and housing finance reform at the federal level.&nbsp\; </span></span><br>    <br>    <span style=font-size: medium><span style=font-family: calibri>With the elections being right around the corner\, it is more important than ever that we make our voices heard &ndash\; and reach our election cycle goal &ndash\; by investing in BUILD-PAC this year. &nbsp\;I\, myself\, am a Gold Key member contributing $1\,000 annually to BUILD-PAC and its efforts.&nbsp\; While economic times are tough\, everyone can afford to give <em>something </em>to support our industry and I am counting on each and every one of you to make that commitment today.&nbsp\; </span></span><br>    <br>    <span style=font-size: medium><span style=font-family: calibri>For those of you who have contributed to BUILD-PAC this year\, thank you!&nbsp\; For those of you who have not\, please consider attending the event on October 24<sup><span style=font-size: small>th</span></sup></span> and making our industry&rsquo\;s voice stronger not only in Washington\, DC\, but also here in Tennessee.</span><br>    <br>    <span style=font-size: medium><span style=font-family: calibri>Sincerely\,</span></span><br>    &nbsp\;<br>    <span style=font-size: medium><span style=font-family: calibri>Ed Zarb<br>    2012 BUILD-PAC Trustee&nbsp\;</span></span><br>    &nbsp\;</div>
LOCATION:12284 North Fox Den Drive Knoxville\, TN
UID:e.9402.460
SEQUENCE:3
DTSTAMP:20260421T122135Z
URL:http://hbaknoxvilletn.memberzone.com/events/details/build-pac-fundraiser-with-special-guest-congressman-john-duncan-10-24-2012-460
END:VEVENT

END:VCALENDAR
