BEGIN:VCALENDAR
VERSION:2.0
PRODID:-//ChamberMaster//Event Calendar 2.0//EN
METHOD:PUBLISH
X-PUBLISHED-TTL:P3D
REFRESH-INTERVAL:P3D
CALSCALE:GREGORIAN
BEGIN:VEVENT
DTSTART;VALUE=DATE:20121119
DTEND;VALUE=DATE:20121120
TRANSP:TRANSPARENT
X-MICROSOFT-CDO-ALLDAYEVENT:TRUE
SUMMARY:Budget & Finance Committee
DESCRIPTION:The HBAGK Budget & Finance Committee meeting is scheduled for Monday\, 11/19/12 at 11:30 AM ahead of Thanksgiving. This is a new meeting time and we hope that you will be able to attend. Please let us know if you plan to attend so we can prepare our materials and order the correct amount of lunch. Lunch is available for $8. Thank you!\n    \n    The budget has been modified since our last meeting and we learned new information that will affect our budget at our recent HBAT meeting. Your attendance and input is important!!\n    \n    (Hint\, you can retrieve your login name & password by clicking the registration link in this message then following the prompt using your email address to have the information sent to you)
X-ALT-DESC;FMTTYPE=text/html:<p>The HBAGK Budget &amp\; Finance Committee meeting is scheduled for Monday\, 11/19/12 at 11:30 AM ahead of Thanksgiving. This is a new meeting time and we hope that you will be able to attend. Please let us know if you plan to attend so we can prepare our materials and order the correct amount of lunch. Lunch is available for $8. Thank you!<br>    <br>    The budget has been modified since our last meeting and we learned new information that will affect our budget at&nbsp\;our recent&nbsp\;HBAT meeting. Your attendance and input is important!!<br>    <br>    <u><strong><span style=background-color: #ffff00><strong>(Hint\, you can retrieve your login name &amp\; password by clicking the registration link in this message then following the prompt using your email address to have the information sent to you)</strong></span></strong></u><br>    &nbsp\;</p>
LOCATION:221 Clark Street\, NW Knoxville\, TN
UID:e.9402.466
SEQUENCE:3
DTSTAMP:20260421T124023Z
URL:http://hbaknoxvilletn.memberzone.com/events/details/budget-finance-committee-11-19-2012-466
END:VEVENT

END:VCALENDAR
