BEGIN:VCALENDAR
VERSION:2.0
PRODID:-//ChamberMaster//Event Calendar 2.0//EN
METHOD:PUBLISH
X-PUBLISHED-TTL:P3D
REFRESH-INTERVAL:P3D
CALSCALE:GREGORIAN
BEGIN:VEVENT
DTSTART;VALUE=DATE:20120925
DTEND;VALUE=DATE:20120926
TRANSP:TRANSPARENT
X-MICROSOFT-CDO-ALLDAYEVENT:TRUE
SUMMARY:Budget & Finance Committee
DESCRIPTION:The HBAGK Budget & Finance Committee meeting is scheduled for TUESDAY\, 9/25/12 at 2:00 PM. This is a new meeting time due to scheduling conflicts and we hope that you will be able to attend. Please let us know if you plan to attend so we can prepare our materials. Thank you!\n    \n    (Hint\, you can retrieve your login name & password by clicking the registration link in this message then following the prompt using your email address to have the information sent to you)
X-ALT-DESC;FMTTYPE=text/html:<p>The HBAGK Budget &amp\; Finance Committee meeting is scheduled for TUESDAY\, 9/25/12 at 2:00 PM. This is a new meeting time due to scheduling conflicts and we hope that you will be able to attend. Please let us know if you plan to attend so we can prepare our materials. Thank you!<br>    <br>    <u><strong><span style=background-color: #ffff00><strong>(Hint\, you can retrieve your login name &amp\; password by clicking the registration link in this message then following the prompt using your email address to have the information sent to you)</strong></span></strong></u><br>    &nbsp\;</p>
LOCATION:221 Clark Street\, NW Knoxville\, TN
UID:e.9402.451
SEQUENCE:3
DTSTAMP:20260421T173746Z
URL:http://hbaknoxvilletn.memberzone.com/events/details/budget-finance-committee-09-25-2012-451
END:VEVENT

END:VCALENDAR
