BEGIN:VCALENDAR
VERSION:2.0
PRODID:-//ChamberMaster//Event Calendar 2.0//EN
METHOD:PUBLISH
X-PUBLISHED-TTL:P3D
REFRESH-INTERVAL:P3D
CALSCALE:GREGORIAN
BEGIN:VEVENT
DTSTART;VALUE=DATE:20120723
DTEND;VALUE=DATE:20120724
TRANSP:TRANSPARENT
X-MICROSOFT-CDO-ALLDAYEVENT:TRUE
SUMMARY:Budget & Finance Committee
DESCRIPTION:Cancelled. Please plan to attend the HBAGK Budget & Finance Committee meeting on Monday\, 7/23/12 at 12:00 PM at the HBAGK office. Lunch is available for $8\, please let us know if you would like lunch when you RSVP.\n    \n    (Hint\, you can retrieve your login name & password by clicking the registration link in this message then following the prompt using your email address to have the information sent to you)
X-ALT-DESC;FMTTYPE=text/html:<p><strong>Cancelled</strong>. Please plan to attend the HBAGK Budget &amp\; Finance Committee meeting on Monday\, 7/23/12 at 12:00&nbsp\;PM at the HBAGK office. Lunch is available for $8\, please let us know if you would like lunch when you RSVP.<br>    <br>    <u><strong><span style=background-color: #ffff00><strong>(Hint\, you can retrieve your login name &amp\; password by clicking the registration link in this message then following the prompt using your email address to have the information sent to you)</strong></span></strong></u><br>    &nbsp\;</p>
LOCATION:221 Clark Street\, NW Knoxville\, TN
UID:e.9402.437
SEQUENCE:3
DTSTAMP:20260421T210132Z
URL:http://hbaknoxvilletn.memberzone.com/events/details/budget-finance-committee-07-23-2012-437
END:VEVENT

END:VCALENDAR
