BEGIN:VCALENDAR
VERSION:2.0
PRODID:-//ChamberMaster//Event Calendar 2.0//EN
METHOD:PUBLISH
X-PUBLISHED-TTL:P3D
REFRESH-INTERVAL:P3D
CALSCALE:GREGORIAN
BEGIN:VEVENT
DTSTART;VALUE=DATE:20120124
DTEND;VALUE=DATE:20120125
TRANSP:TRANSPARENT
X-MICROSOFT-CDO-ALLDAYEVENT:TRUE
SUMMARY:Budget & Finance Committee
DESCRIPTION:Please plan to attend the HBAGK Budget & Finance Committee meeting on Tuesday\, 1/24/12 at 1:00 PM at the HBAGK office.\n    \n    The financials are attached. The monthly report with check register is too large to include with this message and will be sent in a separate email. Please print and bring the report to the meeting if you plan to attend.\n    \n    RSVP to let us know if you will attend so we can prepare for the meeting.
X-ALT-DESC;FMTTYPE=text/html:<p>Please plan to attend the HBAGK Budget &amp\; Finance Committee meeting on Tuesday\, 1/24/12 at 1:00 PM at the HBAGK office.<br>    <br>    The&nbsp\;financials are&nbsp\;attached. The monthly report with check register is too large to include with this message and will be sent in a separate&nbsp\;email.&nbsp\;Please print and bring the report to the meeting if you plan to attend.<br>    <br>    <u><strong>RSVP to let us know if you will attend so we can prepare for the meeting.</strong></u></p>
LOCATION:221 Clark Street\, NW Knoxville\, TN
UID:e.9402.371
SEQUENCE:3
DTSTAMP:20260422T113525Z
URL:http://hbaknoxvilletn.memberzone.com/events/details/budget-finance-committee-01-24-2012-371
END:VEVENT

END:VCALENDAR
