BEGIN:VCALENDAR
VERSION:2.0
PRODID:-//ChamberMaster//Event Calendar 2.0//EN
METHOD:PUBLISH
X-PUBLISHED-TTL:P3D
REFRESH-INTERVAL:P3D
CALSCALE:GREGORIAN
BEGIN:VEVENT
DTSTART;VALUE=DATE:20140618
DTEND;VALUE=DATE:20140619
TRANSP:TRANSPARENT
X-MICROSOFT-CDO-ALLDAYEVENT:TRUE
SUMMARY:Budget & Executive Committees
DESCRIPTION:The HBAGK Budget Committee will meet on Wednesday\, June 18 at 10:30 AM and the Executive Committee meeting follows immediately afterward. These meetings are one week earlier than usual due to the HBAT Summer Board meeting the following week. RSVP if you would like lunch for $8\, sandwich or salad. Thank you.
X-ALT-DESC;FMTTYPE=text/html:The HBAGK Budget Committee will meet on Wednesday\, June 18 at 10:30 AM and the Executive Committee meeting follows immediately afterward. These meetings are one week earlier than usual due to the HBAT Summer Board meeting the following week. RSVP if you would like lunch for $8\, sandwich or salad. Thank you.<div><br></div>
LOCATION:221 Clark Street\, NW Knoxville\, TN
UID:e.9402.611
SEQUENCE:3
DTSTAMP:20260419T194536Z
URL:http://hbaknoxvilletn.memberzone.com/events/details/budget-executive-committees-06-18-2014-611
END:VEVENT

END:VCALENDAR
