BEGIN:VCALENDAR
VERSION:2.0
PRODID:-//ChamberMaster//Event Calendar 2.0//EN
METHOD:PUBLISH
X-PUBLISHED-TTL:P3D
REFRESH-INTERVAL:P3D
CALSCALE:GREGORIAN
BEGIN:VEVENT
DTSTART;VALUE=DATE:20130828
DTEND;VALUE=DATE:20130829
TRANSP:TRANSPARENT
X-MICROSOFT-CDO-ALLDAYEVENT:TRUE
SUMMARY:Budget & Executive Committee meetings
DESCRIPTION:The Budget Committee meeting is scheduled for Wednesday morning\, August 28 at 10:30 AM. The Executive Committee follows at 11:15 AM - (the Board of Directors does NOT meet thismonth). If you plan to have lunch please reply to let us know if you would like a sandwich or salad\, thank you!
X-ALT-DESC;FMTTYPE=text/html:The Budget Committee meeting is scheduled for Wednesday morning\, August 28 at 10:30 AM. The Executive Committee follows at 11:15 AM - (the Board of Directors does NOT meet thismonth). If you plan to have lunch please reply to let us know if you would like a sandwich or salad\, thank you!<br> <br>
LOCATION:221 Clark Street\, NW Knoxville\, TN
UID:e.9402.542
SEQUENCE:3
DTSTAMP:20260420T161022Z
URL:http://hbaknoxvilletn.memberzone.com/events/details/budget-executive-committee-meetings-08-28-2013-542
END:VEVENT

END:VCALENDAR
