BEGIN:VCALENDAR
VERSION:2.0
PRODID:-//ChamberMaster//Event Calendar 2.0//EN
METHOD:PUBLISH
X-PUBLISHED-TTL:P3D
REFRESH-INTERVAL:P3D
CALSCALE:GREGORIAN
BEGIN:VEVENT
DTSTART;VALUE=DATE:20140116
DTEND;VALUE=DATE:20140117
TRANSP:TRANSPARENT
X-MICROSOFT-CDO-ALLDAYEVENT:TRUE
SUMMARY:Budget Committee meeting
DESCRIPTION:The Budget Committee meeting is scheduled for THURSDAY morning\, January 16 at 10:30 AM. The Executive Committee follows at 11:15 AM and the Board meets for the first time this year at 11:45. Special guest and Chief of Staff for Congressman Duncan\, Bob Griffitts\, will attend the Board meeting to accept a BUILD-PAC contribution. The financial packet was sent with the Board of Directors invitation.
X-ALT-DESC;FMTTYPE=text/html:The Budget Committee meeting is scheduled for THURSDAY morning\, January 16 at 10:30 AM.&nbsp\;The Executive Committee follows at 11:15 AM and the Board meets for the first time this year at 11:45. Special guest and Chief of Staff for Congressman Duncan\, Bob Griffitts\, will attend the Board meeting to accept a BUILD-PAC contribution. The financial packet was sent with the Board of Directors invitation.<br> <br> <br>
LOCATION:221 Clark Street\, NW Knoxville\, TN
UID:e.9402.582
SEQUENCE:3
DTSTAMP:20260420T042407Z
URL:http://hbaknoxvilletn.memberzone.com/events/details/budget-committee-meeting-01-16-2014-582
END:VEVENT

END:VCALENDAR
