BEGIN:VCALENDAR
VERSION:2.0
PRODID:-//ChamberMaster//Event Calendar 2.0//EN
METHOD:PUBLISH
X-PUBLISHED-TTL:P3D
REFRESH-INTERVAL:P3D
CALSCALE:GREGORIAN
BEGIN:VEVENT
DTSTART;VALUE=DATE:20130424
DTEND;VALUE=DATE:20130425
TRANSP:TRANSPARENT
X-MICROSOFT-CDO-ALLDAYEVENT:TRUE
SUMMARY:Budget Committee
DESCRIPTION:The Budget Committee meeting is scheduled for Wednesday\, April 24 at 11:00 AM. The Executive Committee is scheduled to meet at the same time so Budget will be first on the agenda. The next Board of Directors meeting will be on Wednesday\, May 22. RSVP.
X-ALT-DESC;FMTTYPE=text/html:The Budget Committee meeting is scheduled for Wednesday\, April 24 at 11:00 AM. The Executive Committee is scheduled to meet at the same time so Budget will be first on the agenda. The next Board of Directors meeting will be on Wednesday\, May 22. RSVP.
LOCATION:221 Clark Street\, NW Knoxville\, TN
UID:e.9402.510
SEQUENCE:3
DTSTAMP:20260421T022810Z
URL:http://hbaknoxvilletn.memberzone.com/events/details/budget-committee-04-24-2013-510
END:VEVENT

END:VCALENDAR
