BEGIN:VCALENDAR
VERSION:2.0
PRODID:-//ChamberMaster//Event Calendar 2.0//EN
METHOD:PUBLISH
X-PUBLISHED-TTL:P3D
REFRESH-INTERVAL:P3D
CALSCALE:GREGORIAN
BEGIN:VEVENT
DTSTART;VALUE=DATE:20131204
DTEND;VALUE=DATE:20131205
TRANSP:TRANSPARENT
X-MICROSOFT-CDO-ALLDAYEVENT:TRUE
SUMMARY:Budget AND Executive Committees
DESCRIPTION:The next HBAGK Budget Committee meeting is scheduled for Wednesday 12/4 at 10:30 AM. The Executive Committee will meet immediately after the B & F meeting. Lunch is available for $8 if you would like us to order for you. RSVP.\n \n We are off schedule due to the holidays and I believe our plan is to meet next week to review/edit the 2014 draft Budget prior to our final board meeting tentatively set for Wednesday\, 12/18/13. Please let me know if that is not correct and I will make the necessary adjustments. Thank you!
X-ALT-DESC;FMTTYPE=text/html:The next HBAGK Budget Committee meeting is scheduled for Wednesday 12/4 at 10:30 AM. <u>The Executive Committee will meet immediately after the B &amp\; F meeting</u>. Lunch is available for $8 if you would like us to order for you. RSVP.<br> <br> We are off schedule due to the holidays and I believe our plan is to meet next week to review/edit the 2014 draft Budget prior to our final board meeting tentatively set for Wednesday\, 12/18/13. Please let me know if that is not correct and I will make the necessary adjustments.&nbsp\;Thank you!<br> <br> <br>
LOCATION:221 Clark Street\, NW Knoxville\, TN
UID:e.9402.571
SEQUENCE:3
DTSTAMP:20260420T054944Z
URL:http://hbaknoxvilletn.memberzone.com/events/details/budget-and-executive-committees-12-04-2013-571
END:VEVENT

END:VCALENDAR
