BEGIN:VCALENDAR
VERSION:2.0
PRODID:-//ChamberMaster//Event Calendar 2.0//EN
METHOD:PUBLISH
X-PUBLISHED-TTL:P3D
REFRESH-INTERVAL:P3D
CALSCALE:GREGORIAN
BEGIN:VEVENT
DTSTART;VALUE=DATE:20130618
DTEND;VALUE=DATE:20130619
TRANSP:TRANSPARENT
X-MICROSOFT-CDO-ALLDAYEVENT:TRUE
SUMMARY:Budget AND Executive Committees
DESCRIPTION:The next HBAGK Budget Committee meeting is scheduled for Tuesday\, 6/18 at 11:30 AM. The Executive Committee will meet immediately after the B & F meeting. Lunch is available for $8 if you would like us to order for you. RSVP. Thank you!
X-ALT-DESC;FMTTYPE=text/html:The next HBAGK Budget Committee meeting is scheduled for Tuesday\, 6/18 at 11:30 AM. <u>The Executive Committee will meet immediately after the B &amp\; F meeting</u>. Lunch is available for $8 if you would like us to order for you. RSVP. Thank you!<br> <br> <br>
LOCATION:221 Clark Street\, NW Knoxville\, TN
UID:e.9402.525
SEQUENCE:3
DTSTAMP:20260420T210600Z
URL:http://hbaknoxvilletn.memberzone.com/events/details/budget-and-executive-committees-06-18-2013-525
END:VEVENT

END:VCALENDAR
