BEGIN:VCALENDAR
VERSION:2.0
PRODID:-//ChamberMaster//Event Calendar 2.0//EN
METHOD:PUBLISH
X-PUBLISHED-TTL:P3D
REFRESH-INTERVAL:P3D
CALSCALE:GREGORIAN
BEGIN:VEVENT
DTSTART;VALUE=DATE:20111214
DTEND;VALUE=DATE:20111215
TRANSP:TRANSPARENT
X-MICROSOFT-CDO-ALLDAYEVENT:TRUE
SUMMARY:Board of Directors
DESCRIPTION:Please plan to attend the next Board of Directors meeting at 11:45 AM on Wednesday 12/14/11 at the Home Builders office. This meeting is two weeks early due to Christmas. Committee minutes are attached\, however the financial report is too large to send with this message and cannot be delivered at this time. Please respond to this message via email or by phone if you plan to attend and would like lunch so I can order the right amount of food. 546-4665 x25. The Executive Committee will meet at 11:15 ahead of the board meeting as usual.\n    \n    (Hint\, you can retrieve your login name & password by clicking the registration link in this message then following the prompt using your email address to have the information sent to you)\n    \n    \n    Thank you\,
X-ALT-DESC;FMTTYPE=text/html:<p>Please plan to attend the next Board of Directors meeting at 11:45 AM on Wednesday&nbsp\;12/14/11 at the Home Builders office. This meeting is two weeks early due to Christmas. Committee minutes are attached\, however the financial report is too large to send with this message and cannot be delivered at this time.</p> <p><strong><span style=font-size: 18px><u>Please respond to this message via email or by phone if you plan to attend and would like lunch so I can order the right amount of food.</u> <u>546-4665 x25.</u></span></strong></p> <p>The <strong>Executive Committee </strong>will meet at 11:15 ahead of the board meeting as usual.<br>    <br>    <span style=background-color: #ffff00><strong>(Hint\, you can retrieve your login name &amp\; password by clicking the registration link in this message then following the prompt using your email address to have the information sent to you)</strong></span><br>    <br>    <br>    Thank you\,</p>
LOCATION:221 Clark Street\, NW Knoxville\, TN
UID:e.9402.366
SEQUENCE:3
DTSTAMP:20260422T172343Z
URL:http://hbaknoxvilletn.memberzone.com/events/details/board-of-directors-12-14-2011-366
END:VEVENT

END:VCALENDAR
