BEGIN:VCALENDAR
VERSION:2.0
PRODID:-//ChamberMaster//Event Calendar 2.0//EN
METHOD:PUBLISH
X-PUBLISHED-TTL:P3D
REFRESH-INTERVAL:P3D
CALSCALE:GREGORIAN
BEGIN:VEVENT
DTSTART;VALUE=DATE:20111116
DTEND;VALUE=DATE:20111117
TRANSP:TRANSPARENT
X-MICROSOFT-CDO-ALLDAYEVENT:TRUE
SUMMARY:Board of Directors
DESCRIPTION:Please plan to attend the next Board of Directors meeting at 11:45 AM on Wednesday 11/16 at the Home Builders office. This meeting is one week early due to Thanksgiving. Please respond to this message via email or by phone if you plan to attend and would like lunch so I can order the right amount of food. 546-4665 x25. The Executive Committee will meet at 11:15 ahead of the board meeting as usual.\n    \n    Thank you\,
X-ALT-DESC;FMTTYPE=text/html:<p>Please plan to attend the next Board of Directors meeting at 11:45 AM on Wednesday&nbsp\;11/16 at the Home Builders office. This meeting is one week early due to Thanksgiving.</p> <p><strong><span style=font-size: 18px><u>Please respond to this message via email or by phone if you plan to attend and would like lunch so I can order the right amount of food.</u> <u>546-4665 x25.</u></span></strong></p> <p>The <strong>Executive Committee </strong>will meet at 11:15 ahead of the board meeting as usual.<br>    <br>    Thank you\,</p>
LOCATION:221 Clark Street\, NW Knoxville\, TN
UID:e.9402.357
SEQUENCE:3
DTSTAMP:20260422T175315Z
URL:http://hbaknoxvilletn.memberzone.com/events/details/board-of-directors-11-16-2011-357
END:VEVENT

END:VCALENDAR
